BEGIN:VCALENDAR
VERSION:2.0
PRODID:-//ChamberMaster//Event Calendar 2.0//EN
METHOD:PUBLISH
X-PUBLISHED-TTL:P3D
REFRESH-INTERVAL:P3D
CALSCALE:GREGORIAN
BEGIN:VEVENT
DTSTART:20140122T163000Z
DTEND:20140122T183000Z
X-MICROSOFT-CDO-ALLDAYEVENT:FALSE
SUMMARY:The Disability Works Commitee
DESCRIPTION:Monthly Committee meeting held at the Chamber of Commerce.
X-ALT-DESC;FMTTYPE=text/html:Monthly Committee meeting held at the Chamber of Commerce.\n\n&nbsp\;
LOCATION:
UID:e.2606.785
SEQUENCE:3
DTSTAMP:20260421T155913Z
URL:https://members.flintandgeneseechamber.org/events/details/the-disability-works-commitee-01-22-2014-785
END:VEVENT

END:VCALENDAR
