BEGIN:VCALENDAR
VERSION:2.0
PRODID:-//ChamberMaster//Event Calendar 2.0//EN
METHOD:PUBLISH
X-PUBLISHED-TTL:P3D
REFRESH-INTERVAL:P3D
CALSCALE:GREGORIAN
BEGIN:VEVENT
DTSTART:20130608T140000Z
DTEND:20130609T220000Z
X-MICROSOFT-CDO-ALLDAYEVENT:FALSE
SUMMARY:The Flint Art Fair
DESCRIPTION:Browse and shop from over 150 artists and craftspeople featuring original art\, pottery\, jewelry\, clothing and more. Also\, enjoy live music\, food and children activities. The Art Fair is open Saturday 10 a.m. to 6 p.m. and Sunday 11 a.m. to 5 p.m. For more information visit www.flintarts.org.
X-ALT-DESC;FMTTYPE=text/html:Browse and shop from over 150 artists and craftspeople featuring original art\, pottery\, jewelry\, clothing and more. Also\, enjoy live music\, food and children activities. The Art Fair is open Saturday 10 a.m. to 6 p.m. and Sunday 11 a.m. to 5 p.m. For more information visit <a href="http://www.flintarts.org/" target="_blank">www.flintarts.org</a>.
LOCATION:Flint Institute of Arts 1120 E. Kearsley Street Flint MI 48502
UID:e.2606.175
SEQUENCE:3
DTSTAMP:20260422T023200Z
URL:https://members.flintandgeneseechamber.org/events/details/the-flint-art-fair-06-08-2013-175
END:VEVENT

END:VCALENDAR
