BEGIN:VCALENDAR
VERSION:2.0
PRODID:-//ChamberMaster//Event Calendar 2.0//EN
METHOD:PUBLISH
X-PUBLISHED-TTL:P3D
REFRESH-INTERVAL:P3D
CALSCALE:GREGORIAN
BEGIN:VEVENT
DTSTART:20130928T220000Z
DTEND:20130929T000000Z
X-MICROSOFT-CDO-ALLDAYEVENT:FALSE
SUMMARY:The Flint Children's Museum Presents: Are You Smarter Than A Grade Schooler
DESCRIPTION:The Flint Children's Museum Presents:  Are You Smarter Than A Grade Schooler ?\n\nSponsored By:  GENESYS\n\nHost: Carrie Sharp\;  WNEM TV5\n\nTeacher:  Vera Perry\;  Treasurer of the Flint Board of Education\n\nCelebrity Contestants\n\nCraig Coney\;  President of Career Alliance\n\nDayne Walling\;  Mayor of Flint\n\nDr. Dick Shaink\; President of Mott Community College\n\nDr. Jonathon Wenzel\;  Chemical Engineer at Kettering University\n\nKathi Horton\;  President of The Community Foundation of Greater\n\nFeaturing Students From:\n\nCumming Elementary\n\nReid Elementary\n\nSt.  Paul Lutheran\n\nTickets:  $20/Adult   $10/Student   For more information or to purchase tickets call 810-767-KIDS
X-ALT-DESC;FMTTYPE=text/html:The Flint Children's Museum Presents:  Are You Smarter Than A Grade Schooler ?\n\n<strong>Sponsored By</strong>:  <span style="text-decoration: underline\;">GENESYS</span>\n\n<strong>Host</strong>: Carrie Sharp\;  WNEM TV5\n\n<strong>Teacher</strong>:  Vera Perry\;  Treasurer of the Flint Board of Education\n\n<strong>Celebrity Contestants</strong>\n\nCraig Coney\;  President of Career Alliance\n\nDayne Walling\;  Mayor of Flint\n\nDr. Dick Shaink\; President of Mott Community College\n\nDr. Jonathon Wenzel\;  Chemical Engineer at Kettering University\n\nKathi Horton\;  President of The Community Foundation of Greater\n\n<strong>Featuring Students From</strong>:\n\nCumming Elementary\n\nReid Elementary\n\nSt.  Paul Lutheran\n\n<strong>Tickets:  $20/Adult   $10/Student   For more information or to purchase tickets call 810-767-KIDS</strong>\n\n&nbsp\;\n\n&nbsp\;
LOCATION:Kettering University Recreation Center 1700 University Avenue Flint Michigan
UID:e.2606.479
SEQUENCE:3
DTSTAMP:20260421T220623Z
URL:https://members.flintandgeneseechamber.org/events/details/the-flint-children-s-museum-presents-are-you-smarter-than-a-grade-schooler-09-28-2013-479
END:VEVENT

END:VCALENDAR
