BEGIN:VCALENDAR
VERSION:2.0
PRODID:-//ChamberMaster//Event Calendar 2.0//EN
METHOD:PUBLISH
X-PUBLISHED-TTL:P3D
REFRESH-INTERVAL:P3D
CALSCALE:GREGORIAN
BEGIN:VEVENT
DTSTART:20130530T040000Z
DTEND:20130531T040000Z
X-MICROSOFT-CDO-ALLDAYEVENT:FALSE
SUMMARY:The Flint Community Players presents “Godspell”
DESCRIPTION:The lighter side of Superstar\, this one finds Jesus and Judas struggling again to find the true meaning of life and living through revitalizing the human spirit in the grandest way possible ... song and dance. Renew your faith in this truly great musical. Performances begin at 8 p.m. Thursday-Saturday and at 2:30 p.m. on Sunday. For details and a schedule of upcoming plays visit www.flintcommunityplayers.com.
X-ALT-DESC;FMTTYPE=text/html:The lighter side of Superstar\, this one finds Jesus and Judas struggling again to find the true meaning of life and living through revitalizing the human spirit in the grandest way possible ... song and dance. Renew your faith in this truly great musical. Performances begin at 8 p.m. Thursday-Saturday and at 2:30 p.m. on Sunday. For details and a schedule of upcoming plays visit <a href="http://www.flintcommunityplayers.com/" target="_blank">www.flintcommunityplayers.com</a>.
LOCATION:The Flint Community Players 2462 Ballenger Hwy Flint Michigan 48507
UID:e.2606.105
SEQUENCE:3
DTSTAMP:20260422T042033Z
URL:https://members.flintandgeneseechamber.org/events/details/the-flint-community-players-presents-godspell-05-30-2013-105
END:VEVENT

END:VCALENDAR
