BEGIN:VCALENDAR
VERSION:2.0
PRODID:-//ChamberMaster//Event Calendar 2.0//EN
METHOD:PUBLISH
X-PUBLISHED-TTL:P3D
REFRESH-INTERVAL:P3D
CALSCALE:GREGORIAN
BEGIN:VEVENT
DTSTART;VALUE=DATE:20130405
DTEND;VALUE=DATE:20130408
TRANSP:TRANSPARENT
X-MICROSOFT-CDO-ALLDAYEVENT:TRUE
SUMMARY:The Flint Community Players presents “Hollywood Arms”
DESCRIPTION:www.flintcommunityplayers.com
X-ALT-DESC;FMTTYPE=text/html:<a href="http://www.flintcommunityplayers.com/" target="_blank">www.flintcommunityplayers.com</a>
LOCATION:The Whiting 1241 E. Kearsley St. Flint Michigan 48503
UID:e.2606.95
SEQUENCE:3
DTSTAMP:20260422T055812Z
URL:https://members.flintandgeneseechamber.org/events/details/the-flint-community-players-presents-hollywood-arms-04-05-2013-95
END:VEVENT

END:VCALENDAR
