BEGIN:VCALENDAR
VERSION:2.0
PRODID:-//ChamberMaster//Event Calendar 2.0//EN
METHOD:PUBLISH
X-PUBLISHED-TTL:P3D
REFRESH-INTERVAL:P3D
CALSCALE:GREGORIAN
BEGIN:VEVENT
DTSTART:20131102T233000Z
DTEND:20131103T013000Z
X-MICROSOFT-CDO-ALLDAYEVENT:FALSE
SUMMARY:The Flint Youth Theatre Presents ''The Miracle Worker''
DESCRIPTION:Trapped in a secret\, lonely world\, young Helen Keller lashes out with violence and fury until Annie Sullivan finds a way to rescue her brilliant mind from its dark and tortured silence. For details\, ticket information and a schedule of upcoming shows visit www.thefim.org.
X-ALT-DESC;FMTTYPE=text/html:Trapped in a secret\, lonely world\, young Helen Keller lashes out with violence and fury until Annie Sullivan finds a way to rescue her brilliant mind from its dark and tortured silence. For details\, ticket information and a schedule of upcoming shows visit <a title="Flint Youth Theatre" href="http://www.thefim.org/" target="_blank">www.thefim.org</a>.
LOCATION:Flint Youth Theatre 1220 E. Kearsley Street Flint Michigan
UID:e.2606.549
SEQUENCE:3
DTSTAMP:20260421T185232Z
URL:https://members.flintandgeneseechamber.org/events/details/the-flint-youth-theatre-presents-the-miracle-worker-11-02-2013-549
END:VEVENT

END:VCALENDAR
