BEGIN:VCALENDAR
VERSION:2.0
PRODID:-//ChamberMaster//Event Calendar 2.0//EN
METHOD:PUBLISH
X-PUBLISHED-TTL:P3D
REFRESH-INTERVAL:P3D
CALSCALE:GREGORIAN
BEGIN:VEVENT
DTSTART:20131221T193000Z
DTEND:20131222T213000Z
X-MICROSOFT-CDO-ALLDAYEVENT:FALSE
SUMMARY:The Flint Youth Theatre Presents ''The Wizard of Oz''
DESCRIPTION:Spend the holidays with FYT's thrilling new production of this beloved classic. From Kansas to Munchkinland\, along the Yellow Brick Road to the Emerald City\, journey with Dorothy\, Toto and all their friends to find the great and powerful Oz. Enjoy a conversation with the creative team following Saturday's performance. For details\, ticket information and a schedule of upcoming shows visit www.thefim.org.
X-ALT-DESC;FMTTYPE=text/html:Spend the holidays with FYT's thrilling new production of this beloved classic. From Kansas to Munchkinland\, along the Yellow Brick Road to the Emerald City\, journey with Dorothy\, Toto and all their friends to find the great and powerful Oz. Enjoy a conversation with the creative team following Saturday's performance. For details\, ticket information and a schedule of upcoming shows visit <a title="Flint Youth Theatre" href="http://www.thefim.org/" target="_blank">www.thefim.org</a>.
LOCATION:Flint Youth Theatre 1220 E. Kearsley Street Flint Michigan
UID:e.2606.588
SEQUENCE:3
DTSTAMP:20260421T172009Z
URL:https://members.flintandgeneseechamber.org/events/details/the-flint-youth-theatre-presents-the-wizard-of-oz-12-21-2013-588
END:VEVENT

END:VCALENDAR
