BEGIN:VCALENDAR
VERSION:2.0
PRODID:-//ChamberMaster//Event Calendar 2.0//EN
METHOD:PUBLISH
X-PUBLISHED-TTL:P3D
REFRESH-INTERVAL:P3D
CALSCALE:GREGORIAN
BEGIN:VEVENT
DTSTART;VALUE=DATE:20130411
DTEND;VALUE=DATE:20130422
TRANSP:TRANSPARENT
X-MICROSOFT-CDO-ALLDAYEVENT:TRUE
SUMMARY:The Foreigner - Fenton Village Players
DESCRIPTION:Fenton Village Players\n\nwww.fentonvillageplayers.org
X-ALT-DESC;FMTTYPE=text/html:Fenton Village Players\n\n<a href="http://www.fentonvillageplayers.org/">www.fentonvillageplayers.org</a>
LOCATION:Fenton Village Playhouse 14197 Torrey Rd. Fenton Michigan 48430
UID:e.2606.49
SEQUENCE:3
DTSTAMP:20260422T055809Z
URL:https://members.flintandgeneseechamber.org/events/details/the-foreigner-fenton-village-players-04-11-2013-49
END:VEVENT

END:VCALENDAR
