BEGIN:VCALENDAR
VERSION:2.0
PRODID:-//ChamberMaster//Event Calendar 2.0//EN
METHOD:PUBLISH
X-PUBLISHED-TTL:P3D
REFRESH-INTERVAL:P3D
CALSCALE:GREGORIAN
BEGIN:VEVENT
DTSTART:20140327T123000Z
DTEND:20140327T180000Z
X-MICROSOFT-CDO-ALLDAYEVENT:FALSE
SUMMARY:The Freak Factor - Sponsored by Diplomat
DESCRIPTION:Morning Session\nDesigned for adults from the business world and community as well as students and staff from high schools. Starts at 8:30am and ends at 10:30am.\n\n \n\nAfternoon Session\nDesigned for students and staff from grades 3-8. Starts at 12:00pm and ends at 2:00pm.\n\n \n\nOffering a “pay what you want” event on March 27th at The Whiting in Flint\, Michigan.\n\nThis event is made possible by the continuing\, generous sponsorship and support from Diplomat Pharmacy.\n\n \n\nRegister\n\nhttp://www.heroroundtable.com/hero-round-table-presents/
X-ALT-DESC;FMTTYPE=text/html:Morning Session\n<div id="descriptionDiv23173953">Designed for adults from the business world and community as well as students and staff from high schools. Starts at 8:30am and ends at 10:30am.\n\n&nbsp\;\n\nAfternoon Session\n<div id="descriptionDiv23173955">Designed for students and staff from grades 3-8. Starts at 12:00pm and ends at 2:00pm.\n\n&nbsp\;\n\nOffering a “pay what you want” event on <strong>March 27th</strong> at The Whiting in Flint\, Michigan.\n\nThis event is made possible by the continuing\, generous sponsorship and support from <a href="http://diplomat.is/">Diplomat Pharmacy</a>.\n\n&nbsp\;\n\nRegister\n\nhttp://www.heroroundtable.com/hero-round-table-presents/\n\n&nbsp\;\n\n</div>\n</div>
LOCATION:
UID:e.2606.843
SEQUENCE:3
DTSTAMP:20260421T124718Z
URL:https://members.flintandgeneseechamber.org/events/details/the-freak-factor-sponsored-by-diplomat-03-27-2014-843
END:VEVENT

END:VCALENDAR
