BEGIN:VCALENDAR
VERSION:2.0
PRODID:-//ChamberMaster//Event Calendar 2.0//EN
METHOD:PUBLISH
X-PUBLISHED-TTL:P3D
REFRESH-INTERVAL:P3D
CALSCALE:GREGORIAN
BEGIN:VEVENT
DTSTART:20140103T150000Z
DTEND:20140129T020000Z
X-MICROSOFT-CDO-ALLDAYEVENT:FALSE
SUMMARY:The ''Lone Wolverine'' Exhibit at Courtland Center Mall
DESCRIPTION:The "Lone Wolverine" is visiting Flint's Courtland Center Mall. Get the chance to see this last known Michigan Wolverine on display. A Ribbon Cutting will be held at 12 p.m. on Saturday\, January 4. Learn all about this stuffed Wolverine and its life in Michigan with artwork and activities. Display will be open during mall hours. For more information contact the Burton Area Historical Society at (810) 962-5122 or email History.Mona@yahoo.com.
X-ALT-DESC;FMTTYPE=text/html:The "Lone Wolverine" is visiting Flint's Courtland Center Mall. Get the chance to see this last known Michigan Wolverine on display. A Ribbon Cutting will be held at 12 p.m. on Saturday\, January 4. Learn all about this stuffed Wolverine and its life in Michigan with artwork and activities. Display will be open during mall hours. For more information contact the Burton Area Historical Society at (810) 962-5122 or email History.Mona@yahoo.com.
LOCATION:Courtland Center Mall 4190 E. Court Street Burton Michigan
UID:e.2606.629
SEQUENCE:3
DTSTAMP:20260421T160417Z
URL:https://members.flintandgeneseechamber.org/events/details/the-lone-wolverine-exhibit-at-courtland-center-mall-01-03-2014-629
END:VEVENT

END:VCALENDAR
