BEGIN:VCALENDAR
VERSION:2.0
PRODID:-//ChamberMaster//Event Calendar 2.0//EN
METHOD:PUBLISH
X-PUBLISHED-TTL:P3D
REFRESH-INTERVAL:P3D
CALSCALE:GREGORIAN
BEGIN:VEVENT
DTSTART:20190601T230000Z
DTEND:20190602T033000Z
X-MICROSOFT-CDO-ALLDAYEVENT:FALSE
SUMMARY:The Party - Art of the Future
DESCRIPTION:The future awaits at the PARTY of the year! Experience the Flint Institute of Arts like never before - marvel at the remarkable concept cars on display\, be wowed by the ultimate humanoid robot\, immerse yourself in unique and innovative photo opportunities and dance the night away with entertainment by DJ Prevu and percussionist Jared Sykes. The party also highlights the museum collection\, a cash bar and cuisine by Redwood Steakhouse. For more information visit flintarts.org.
X-ALT-DESC;FMTTYPE=text/html:The future awaits at the PARTY of the year! Experience the Flint Institute of Arts like never before - marvel at the remarkable concept cars on display\, be wowed by the ultimate humanoid robot\, immerse yourself in unique and innovative photo opportunities and dance the night away with entertainment by DJ Prevu and percussionist Jared Sykes. The party also highlights the museum collection\, a cash bar and cuisine by Redwood Steakhouse. For more information visit <a href="https://flintarts.org/events/the-party" target="_blank">flintarts.org</a>.
LOCATION:Flint Institute of Arts 1120 E. Kearsley Street Flint\, MI 48503
UID:e.2606.9372
SEQUENCE:3
DTSTAMP:20260421T084914Z
URL:https://members.flintandgeneseechamber.org/events/details/the-party-art-of-the-future-9372
END:VEVENT

END:VCALENDAR
