BEGIN:VCALENDAR
VERSION:2.0
PRODID:-//ChamberMaster//Event Calendar 2.0//EN
METHOD:PUBLISH
X-PUBLISHED-TTL:P3D
REFRESH-INTERVAL:P3D
CALSCALE:GREGORIAN
BEGIN:VEVENT
DTSTART:20140425T220000Z
DTEND:20140426T040000Z
X-MICROSOFT-CDO-ALLDAYEVENT:FALSE
SUMMARY:The Secret is Out - A Girls Night In!
DESCRIPTION:Join McLaren for an evening of fun\, food\, wine and pampering!  Proceeds will benefit the Hospitality House at McLaren.\n\nActivities Include:  Manicures\, pedicures\, facials\, cooking demonstration by Crust Bakery of Fenton\, massages\, makeovers\, wine tasting and more!\n\nFor more information contact the McLaren Foundation at 810.342.2443 or email at mclarenfoundation@mclaren.org
X-ALT-DESC;FMTTYPE=text/html:Join McLaren for an evening of fun\, food\, wine and pampering!  Proceeds will benefit the Hospitality House at McLaren.\n\nActivities Include:  Manicures\, pedicures\, facials\, cooking demonstration by Crust Bakery of Fenton\, massages\, makeovers\, wine tasting and more!\n\nFor more information contact the McLaren Foundation at 810.342.2443 or email at <a href="mailto:mclarenfoundation@mclaren.org">mclarenfoundation@mclaren.org</a>
LOCATION:McLaren Hospitality House 3170 Beecher Road Flint MI 48532
UID:e.2606.854
SEQUENCE:3
DTSTAMP:20260421T114121Z
URL:https://members.flintandgeneseechamber.org/events/details/the-secret-is-out-a-girls-night-in-04-25-2014-854
END:VEVENT

END:VCALENDAR
