BEGIN:VCALENDAR
VERSION:2.0
PRODID:-//ChamberMaster//Event Calendar 2.0//EN
METHOD:PUBLISH
X-PUBLISHED-TTL:P3D
REFRESH-INTERVAL:P3D
CALSCALE:GREGORIAN
BEGIN:VEVENT
DTSTART:20140125T150000Z
DTEND:20140504T210000Z
X-MICROSOFT-CDO-ALLDAYEVENT:FALSE
SUMMARY:The Sloan Museum presents ''Space: A Journey To Our Future''
DESCRIPTION:Ignite your desire for discovery\, spark your imagination and inspire new generations of explorers to dream of the possibilities that lie ahead in this exciting Space exhibit. Take an adventurous trip in space and touch actual rocks from the lunar surface and the red planet\, explore a future Lunar Base Camp and take a spin on a centrifuge that you power like a bicycle. Get an up-close look at a wide range of artifacts from the space program as well as displays on the new spacecraft that will go back to the Moon and beyond. Experience the past\, present and future of space through dozens of other displays\, inter-actives and experiences. For details and a schedule of upcoming exhibits visitwww.sloanlongway.com.
X-ALT-DESC;FMTTYPE=text/html:Ignite your desire for discovery\, spark your imagination and inspire new generations of explorers to dream of the possibilities that lie ahead in this exciting Space exhibit. Take an adventurous trip in space and touch actual rocks from the lunar surface and the red planet\, explore a future Lunar Base Camp and take a spin on a centrifuge that you power like a bicycle. Get an up-close look at a wide range of artifacts from the space program as well as displays on the new spacecraft that will go back to the Moon and beyond. Experience the past\, present and future of space through dozens of other displays\, inter-actives and experiences. For details and a schedule of upcoming exhibits visit<a title="Sloan Museum " href="http://www.sloanlongway.com/" target="_blank">www.sloanlongway.com</a>.
LOCATION:Sloan Museum 1221 E. Kearsley Street Flint Michigan 48503
UID:e.2606.642
SEQUENCE:3
DTSTAMP:20260421T102634Z
URL:https://members.flintandgeneseechamber.org/events/details/the-sloan-museum-presents-space-a-journey-to-our-future-01-25-2014-642
END:VEVENT

END:VCALENDAR
