BEGIN:VCALENDAR
VERSION:2.0
PRODID:-//ChamberMaster//Event Calendar 2.0//EN
METHOD:PUBLISH
X-PUBLISHED-TTL:P3D
REFRESH-INTERVAL:P3D
CALSCALE:GREGORIAN
BEGIN:VEVENT
DTSTART:20130621T220000Z
DTEND:20130622T020000Z
X-MICROSOFT-CDO-ALLDAYEVENT:FALSE
SUMMARY:''The Taste of Spring'' in Downtown Flint
DESCRIPTION:Visit downtown Flint and enjoy the delicious smells and tastes of over a dozen downtown restaurants while sampling a variety of foods. A cash bar will also be available along with live downtown entertainment and DJ. It all happens on the Bricks\, Under the Stars! For a detailed schedule of activities visit www.flintdda.org.
X-ALT-DESC;FMTTYPE=text/html:Visit downtown Flint and enjoy the delicious smells and tastes of over a dozen downtown restaurants while sampling a variety of foods. A cash bar will also be available along with live downtown entertainment and DJ. It all happens on the Bricks\, Under the Stars! For a detailed schedule of activities visit<a title="Flint Downtown Development Authority" href="http://www.flintdda.org" target="_blank"> www.flintdda.org</a>.\n\n&nbsp\;
LOCATION:Flint's Downtown Entertainment District Saginaw Street Flint Michigan
UID:e.2606.213
SEQUENCE:3
DTSTAMP:20260422T023443Z
URL:https://members.flintandgeneseechamber.org/events/details/the-taste-of-spring-in-downtown-flint-06-21-2013-213
END:VEVENT

END:VCALENDAR
