BEGIN:VCALENDAR
VERSION:2.0
PRODID:-//ChamberMaster//Event Calendar 2.0//EN
METHOD:PUBLISH
X-PUBLISHED-TTL:P3D
REFRESH-INTERVAL:P3D
CALSCALE:GREGORIAN
BEGIN:VEVENT
DTSTART;VALUE=DATE:20130221
DTEND;VALUE=DATE:20130304
TRANSP:TRANSPARENT
X-MICROSOFT-CDO-ALLDAYEVENT:TRUE
SUMMARY:The Wedding Singer – Fenton Village Players
DESCRIPTION:Fenton Village Players\n\nwww.fentonvillageplayers.org
X-ALT-DESC;FMTTYPE=text/html:Fenton Village Players\n\n<a href="http://www.fentonvillageplayers.org/">www.fentonvillageplayers.org</a>
LOCATION:Fenton Village Playhouse 14197 Torrey Rd. Fenton Michigan 48430
UID:e.2606.48
SEQUENCE:3
DTSTAMP:20260422T073831Z
URL:https://members.flintandgeneseechamber.org/events/details/the-wedding-singer-fenton-village-players-02-21-2013-48
END:VEVENT

END:VCALENDAR
