BEGIN:VCALENDAR
VERSION:2.0
PRODID:-//ChamberMaster//Event Calendar 2.0//EN
METHOD:PUBLISH
X-PUBLISHED-TTL:P3D
REFRESH-INTERVAL:P3D
CALSCALE:GREGORIAN
BEGIN:VEVENT
DTSTART:20140302T010000Z
DTEND:20140302T030000Z
X-MICROSOFT-CDO-ALLDAYEVENT:FALSE
SUMMARY:The Whiting Presents ''Celtic Crossroads'' World Fusion Tour
DESCRIPTION:Critically acclaimed as the most exhilarating and authentic show to come from Ireland in decades\, Celtic Crossroads explodes on stage with youthful energy and dazzling musicianship featuring Irish music\, bluegrass\, gypsy and jazz all the while pulsating with the rhythms of exciting Irish dance percussion. For details\, ticket information and a schedule of upcoming shows visit www.thewhiting.com.
X-ALT-DESC;FMTTYPE=text/html:Critically acclaimed as the most exhilarating and authentic show to come from Ireland in decades\, Celtic Crossroads explodes on stage with youthful energy and dazzling musicianship featuring Irish music\, bluegrass\, gypsy and jazz all the while pulsating with the rhythms of exciting Irish dance percussion. For details\, ticket information and a schedule of upcoming shows visit <a title="The Whiting " href="http://www.thewhiting.com/index.aspx" target="_blank">www.thewhiting.com</a>.
LOCATION:The Whiting 1241 E. Kearsley Street Flint Michigan
UID:e.2606.532
SEQUENCE:3
DTSTAMP:20260421T131539Z
URL:https://members.flintandgeneseechamber.org/events/details/the-whiting-presents-celtic-crossroads-world-fusion-tour-03-01-2014-532
END:VEVENT

END:VCALENDAR
