BEGIN:VCALENDAR
VERSION:2.0
PRODID:-//ChamberMaster//Event Calendar 2.0//EN
METHOD:PUBLISH
X-PUBLISHED-TTL:P3D
REFRESH-INTERVAL:P3D
CALSCALE:GREGORIAN
BEGIN:VEVENT
DTSTART:20140220T003000Z
DTEND:20140220T023000Z
X-MICROSOFT-CDO-ALLDAYEVENT:FALSE
SUMMARY:The Whiting Presents ''Chicago''
DESCRIPTION:Chicago has everything that makes Broadway great: a universal tale of fame\, fortune and all the jazz\; one show-stopping-song after another\; and the most astonishing dancing you've ever seen. For details\, ticket information and a schedule of upcoming shows visit www.thewhiting.com.
X-ALT-DESC;FMTTYPE=text/html:Chicago has everything that makes Broadway great: a universal tale of fame\, fortune and all the jazz\; one show-stopping-song after another\; and the most astonishing dancing you've ever seen. For details\, ticket information and a schedule of upcoming shows visit <a title="The Whiting " href="http://www.thewhiting.com/index.aspx" target="_blank">www.thewhiting.com</a>.
LOCATION:The Whiting 1241 E. Kearsley St. Flint Michigan 48503
UID:e.2606.531
SEQUENCE:3
DTSTAMP:20260421T142437Z
URL:https://members.flintandgeneseechamber.org/events/details/the-whiting-presents-chicago-02-19-2014-531
END:VEVENT

END:VCALENDAR
