BEGIN:VCALENDAR
VERSION:2.0
PRODID:-//ChamberMaster//Event Calendar 2.0//EN
METHOD:PUBLISH
X-PUBLISHED-TTL:P3D
REFRESH-INTERVAL:P3D
CALSCALE:GREGORIAN
BEGIN:VEVENT
DTSTART:20140321T233000Z
DTEND:20140322T013000Z
X-MICROSOFT-CDO-ALLDAYEVENT:FALSE
SUMMARY:The Whiting Presents Cirque Mechanics ''Birdhouse Factory''
DESCRIPTION:Witness a contortionist perform on a turntable powered by unicyclists\, a high-flying trapeze artist sail through the air and a trampoline wall artist seemingly defy the laws of physics. Inspired by old-fashioned American ingenuity\, this production will have the audience rolling with laughter at the antics of the comedic characters\, impressed by the acro-dancing and enchanted by the timeless stories of mechanical wonders. Arrive one hour prior to start of performance and enjoy local magician Jason Abbott. For details\, ticket information and a schedule of upcoming shows visit www.thewhiting.com.
X-ALT-DESC;FMTTYPE=text/html:Witness a contortionist perform on a turntable powered by unicyclists\, a high-flying trapeze artist sail through the air and a trampoline wall artist seemingly defy the laws of physics. Inspired by old-fashioned American ingenuity\, this production will have the audience rolling with laughter at the antics of the comedic characters\, impressed by the acro-dancing and enchanted by the timeless stories of mechanical wonders. Arrive one hour prior to start of performance and enjoy local magician Jason Abbott. For details\, ticket information and a schedule of upcoming shows visit <a title="The Whiting " href="http://www.thewhiting.com/index.aspx" target="_blank">www.thewhiting.com</a>.
LOCATION:The Whiting 1241 E. Kearsley Street Flint Michigan
UID:e.2606.534
SEQUENCE:3
DTSTAMP:20260421T131535Z
URL:https://members.flintandgeneseechamber.org/events/details/the-whiting-presents-cirque-mechanics-birdhouse-factory-03-21-2014-534
END:VEVENT

END:VCALENDAR
