BEGIN:VCALENDAR
VERSION:2.0
PRODID:-//ChamberMaster//Event Calendar 2.0//EN
METHOD:PUBLISH
X-PUBLISHED-TTL:P3D
REFRESH-INTERVAL:P3D
CALSCALE:GREGORIAN
BEGIN:VEVENT
DTSTART:20131110T010000Z
DTEND:20131110T030000Z
X-MICROSOFT-CDO-ALLDAYEVENT:FALSE
SUMMARY:The Whiting Presents ''Jim Belushi & The Chicago Board of Comedy''
DESCRIPTION:With more than thirty years of experience and alumni status of both Saturday Night Live and Chicago's famed Second City\, Jim Belushi is now bringing to the stage an improvised sketch comedy show featuring members of the Chicago Board of Comedy - Robert Belushi\, Larry Joe Campbell\, Jon Barinholtz\, Megan Grano and Brad Morris. Arrive one hour prior to the show and see Hole in the Wall Theatre members perform their improv comedy act in The Whiting's lobby.  For details\, ticket information and a schedule of upcoming shows visit www.thewhiting.com.
X-ALT-DESC;FMTTYPE=text/html:With more than thirty years of experience and alumni status of both Saturday Night Live and Chicago's famed Second City\, Jim Belushi is now bringing to the stage an improvised sketch comedy show featuring members of the Chicago Board of Comedy - Robert Belushi\, Larry Joe Campbell\, Jon Barinholtz\, Megan Grano and Brad Morris. Arrive one hour prior to the show and see Hole in the Wall Theatre members perform their improv comedy act in The Whiting's lobby.  For details\, ticket information and a schedule of upcoming shows visit <a title="The Whiting " href="http://www.thewhiting.com/index.aspx" target="_blank">www.thewhiting.com</a>.
LOCATION:The Whiting 1241 E. Kearsley St. Flint Michigan 48503
UID:e.2606.519
SEQUENCE:3
DTSTAMP:20260421T185640Z
URL:https://members.flintandgeneseechamber.org/events/details/the-whiting-presents-jim-belushi-the-chicago-board-of-comedy-11-09-2013-519
END:VEVENT

END:VCALENDAR
