BEGIN:VCALENDAR
VERSION:2.0
PRODID:-//ChamberMaster//Event Calendar 2.0//EN
METHOD:PUBLISH
X-PUBLISHED-TTL:P3D
REFRESH-INTERVAL:P3D
CALSCALE:GREGORIAN
BEGIN:VEVENT
DTSTART:20140426T233000Z
DTEND:20140427T013000Z
X-MICROSOFT-CDO-ALLDAYEVENT:FALSE
SUMMARY:The Whiting Presents ''Live SNL Alumni''
DESCRIPTION:Join in on an evening of stand-up with hilarious former Saturday Night Live alumni that includes Jon Lovitz\, Tim Meadows and more. The years these comedians spent on SNL propelled them to fame\, landing them on many roles on both the big and small screen. For details\, ticket information and a schedule of upcoming shows visit www.thewhiting.com.
X-ALT-DESC;FMTTYPE=text/html:Join in on an evening of stand-up with hilarious former <em>Saturday Night Live</em> alumni that includes Jon Lovitz\, Tim Meadows and more. The years these comedians spent on <em>SNL</em> propelled them to fame\, landing them on many roles on both the big and small screen. For details\, ticket information and a schedule of upcoming shows visit <a title="The Whiting " href="http://www.thewhiting.com/index.aspx" target="_blank">www.thewhiting.com</a>.
LOCATION:The Whiting 1241 E. Kearsley Street Flint Michigan
UID:e.2606.540
SEQUENCE:3
DTSTAMP:20260421T112251Z
URL:https://members.flintandgeneseechamber.org/events/details/the-whiting-presents-live-snl-alumni-04-26-2014-540
END:VEVENT

END:VCALENDAR
