BEGIN:VCALENDAR
VERSION:2.0
PRODID:-//ChamberMaster//Event Calendar 2.0//EN
METHOD:PUBLISH
X-PUBLISHED-TTL:P3D
REFRESH-INTERVAL:P3D
CALSCALE:GREGORIAN
BEGIN:VEVENT
DTSTART:20131215T203000Z
DTEND:20131215T223000Z
X-MICROSOFT-CDO-ALLDAYEVENT:FALSE
SUMMARY:The Whiting Presents ''Mannheim Steamroller Christmas'' by Chip Davis
DESCRIPTION:The spirit of the season comes alive in this ultimate holiday tradition featuring the beloved Christmas music of Mannheim Steamroller along with dazzling multimedia effects performed in an intimate setting. For details\, ticket information and a schedule of upcoming shows visit www.thewhiting.com.
X-ALT-DESC;FMTTYPE=text/html:The spirit of the season comes alive in this ultimate holiday tradition featuring the beloved Christmas music of Mannheim Steamroller along with dazzling multimedia effects performed in an intimate setting. For details\, ticket information and a schedule of upcoming shows visit <a title="The Whiting " href="http://www.thewhiting.com/index.aspx" target="_blank">www.thewhiting.com</a>.
LOCATION:The Whiting 1241 E. Kearsley Street Flint Michigan
UID:e.2606.520
SEQUENCE:3
DTSTAMP:20260421T171534Z
URL:https://members.flintandgeneseechamber.org/events/details/the-whiting-presents-mannheim-steamroller-christmas-by-chip-davis-12-15-2013-520
END:VEVENT

END:VCALENDAR
