BEGIN:VCALENDAR
VERSION:2.0
PRODID:-//ChamberMaster//Event Calendar 2.0//EN
METHOD:PUBLISH
X-PUBLISHED-TTL:P3D
REFRESH-INTERVAL:P3D
CALSCALE:GREGORIAN
BEGIN:VEVENT
DTSTART:20140309T200000Z
DTEND:20140309T220000Z
X-MICROSOFT-CDO-ALLDAYEVENT:FALSE
SUMMARY:The Whiting Presents ''Menopause'' the Musical
DESCRIPTION:Set in the lingerie section of a department store\, four women with seemingly nothing in common but a black lace bra come to find they have more to share than they ever imagined! This hilarious musical parody staged to classic tunes from the 60s\, 70s and 80s will have the audience cheering and dancing in the aisles. For details\, ticket information and a schedule of upcoming shows visit www.thewhiting.com.
X-ALT-DESC;FMTTYPE=text/html:Set in the lingerie section of a department store\, four women with seemingly nothing in common but a black lace bra come to find they have more to share than they ever imagined! This hilarious musical parody staged to classic tunes from the 60s\, 70s and 80s will have the audience cheering and dancing in the aisles. For details\, ticket information and a schedule of upcoming shows visit <a title="The Whiting " href="http://www.thewhiting.com/index.aspx" target="_blank">www.thewhiting.com</a>.
LOCATION:The Whiting 1241 E. Kearsley St. Flint Michigan 48503
UID:e.2606.533
SEQUENCE:3
DTSTAMP:20260421T125639Z
URL:https://members.flintandgeneseechamber.org/events/details/the-whiting-presents-menopause-the-musical-03-09-2014-533
END:VEVENT

END:VCALENDAR
