BEGIN:VCALENDAR
VERSION:2.0
PRODID:-//ChamberMaster//Event Calendar 2.0//EN
METHOD:PUBLISH
X-PUBLISHED-TTL:P3D
REFRESH-INTERVAL:P3D
CALSCALE:GREGORIAN
BEGIN:VEVENT
DTSTART:20140517T233000Z
DTEND:20140518T013000Z
X-MICROSOFT-CDO-ALLDAYEVENT:FALSE
SUMMARY:The Whiting Presents Mike Super ''Magic & Illusion''
DESCRIPTION:Named 2012 Performing Arts Entertainer of the Year\, Mike Super pairs cutting edge magic and illusion with state of the art theatrical elements\, including an interactive stage set\, video projection\, dramatic lighting and energetic music while sharing his distinctive humor and personality. For details\, ticket information and a schedule of upcoming shows visit www.thewhiting.com.
X-ALT-DESC;FMTTYPE=text/html:Named 2012 Performing Arts Entertainer of the Year\, Mike Super pairs cutting edge magic and illusion with state of the art theatrical elements\, including an interactive stage set\, video projection\, dramatic lighting and energetic music while sharing his distinctive humor and personality. For details\, ticket information and a schedule of upcoming shows visit <a title="The Whiting " href="http://www.thewhiting.com/index.aspx" target="_blank">www.thewhiting.com</a>.
LOCATION:The Whiting 1241 E. Kearsley St. Flint Michigan 48503
UID:e.2606.542
SEQUENCE:3
DTSTAMP:20260421T101406Z
URL:https://members.flintandgeneseechamber.org/events/details/the-whiting-presents-mike-super-magic-illusion-05-17-2014-542
END:VEVENT

END:VCALENDAR
