BEGIN:VCALENDAR
VERSION:2.0
PRODID:-//ChamberMaster//Event Calendar 2.0//EN
METHOD:PUBLISH
X-PUBLISHED-TTL:P3D
REFRESH-INTERVAL:P3D
CALSCALE:GREGORIAN
BEGIN:VEVENT
DTSTART:20140201T190000Z
DTEND:20140201T210000Z
X-MICROSOFT-CDO-ALLDAYEVENT:FALSE
SUMMARY:The Whiting Presents ''Million Dollar Quartet''
DESCRIPTION:Don't miss this Tony Award-Winning Broadway musical inspired by the electrifying true story of the famed recording session on December 4\, 1956\, that brought together rock 'n' roll icons Elvis Presley\, Johnny Cash\, Jerry Lee Lewis and Carl Perkins for the first and only time. For details\, ticket information and a schedule of upcoming shows visit www.thewhiting.com.
X-ALT-DESC;FMTTYPE=text/html:Don't miss this Tony Award-Winning Broadway musical inspired by the electrifying true story of the famed recording session on December 4\, 1956\, that brought together rock 'n' roll icons Elvis Presley\, Johnny Cash\, Jerry Lee Lewis and Carl Perkins for the first and only time. For details\, ticket information and a schedule of upcoming shows visit <a title="The Whiting " href="http://www.thewhiting.com/index.aspx" target="_blank">www.thewhiting.com</a>.
LOCATION:The Whiting 1241 E. Kearsley St. Flint Michigan 48503
UID:e.2606.527
SEQUENCE:3
DTSTAMP:20260421T142523Z
URL:https://members.flintandgeneseechamber.org/events/details/the-whiting-presents-million-dollar-quartet-02-01-2014-527
END:VEVENT

END:VCALENDAR
