BEGIN:VCALENDAR
VERSION:2.0
PRODID:-//ChamberMaster//Event Calendar 2.0//EN
METHOD:PUBLISH
X-PUBLISHED-TTL:P3D
REFRESH-INTERVAL:P3D
CALSCALE:GREGORIAN
BEGIN:VEVENT
DTSTART:20131020T000000Z
DTEND:20131020T020000Z
X-MICROSOFT-CDO-ALLDAYEVENT:FALSE
SUMMARY:The Whiting Presents ''Momtourage''
DESCRIPTION:Enjoy a night of laughs with Caroline Rhea of Sabrina The Teenage Witch and The Caroline Rhea Show\, Carol Leifer\, best-selling author and writer for SNL and Seinfeld and Kym Whitley of Animal Practice. For details\, ticket information and a schedule of upcoming shows visit www.thewhiting.com.
X-ALT-DESC;FMTTYPE=text/html:Enjoy a night of laughs with Caroline Rhea of <em>Sabrina The Teenage Witch</em> and <em>The Caroline Rhea Show</em>\, Carol Leifer\, best-selling author and writer for SNL and <em>Seinfeld</em> and Kym Whitley of <em>Animal Practice</em>. For details\, ticket information and a schedule of upcoming shows visit <a title="The Whiting " href="http://www.thewhiting.com/index.aspx" target="_blank">www.thewhiting.com</a>.
LOCATION:The Whiting 1241 E. Kearsley Street Flint Michigan
UID:e.2606.516
SEQUENCE:3
DTSTAMP:20260421T201835Z
URL:https://members.flintandgeneseechamber.org/events/details/the-whiting-presents-momtourage-10-19-2013-516
END:VEVENT

END:VCALENDAR
