BEGIN:VCALENDAR
VERSION:2.0
PRODID:-//ChamberMaster//Event Calendar 2.0//EN
METHOD:PUBLISH
X-PUBLISHED-TTL:P3D
REFRESH-INTERVAL:P3D
CALSCALE:GREGORIAN
BEGIN:VEVENT
DTSTART:20140330T000000Z
DTEND:20140330T020000Z
X-MICROSOFT-CDO-ALLDAYEVENT:FALSE
SUMMARY:The Whiting Presents ''One Night of Queen''
DESCRIPTION:They have been hailed as the world's premiere Queen tribute band and have received rave reviews from over 500 Performing Arts Centers in the USA since 2008\, Gary Mullen & The Works' performance of One Night of Queen is a spectacular live concert recreating the look\, sound\, pomp and showmanship of arguably the greatest rock band of all time. Arrive one hour prior to start of performance to hear local artist entertainment. For details\, ticket information and a schedule of upcoming shows visit www.thewhiting.com.
X-ALT-DESC;FMTTYPE=text/html:They have been hailed as the world's premiere Queen tribute band and have received rave reviews from over 500 Performing Arts Centers in the USA since 2008\, Gary Mullen &amp\; The Works' performance of One Night of Queen is a spectacular live concert recreating the look\, sound\, pomp and showmanship of arguably the greatest rock band of all time. Arrive one hour prior to start of performance to hear local artist entertainment. For details\, ticket information and a schedule of upcoming shows visit <a title="The Whiting " href="http://www.thewhiting.com/index.aspx" target="_blank">www.thewhiting.com</a>.
LOCATION:The Whiting 1241 E. Kearsley St. Flint Michigan 48503
UID:e.2606.535
SEQUENCE:3
DTSTAMP:20260421T125153Z
URL:https://members.flintandgeneseechamber.org/events/details/the-whiting-presents-one-night-of-queen-03-29-2014-535
END:VEVENT

END:VCALENDAR
