BEGIN:VCALENDAR
VERSION:2.0
PRODID:-//ChamberMaster//Event Calendar 2.0//EN
METHOD:PUBLISH
X-PUBLISHED-TTL:P3D
REFRESH-INTERVAL:P3D
CALSCALE:GREGORIAN
BEGIN:VEVENT
DTSTART:20140125T190000Z
DTEND:20140125T210000Z
X-MICROSOFT-CDO-ALLDAYEVENT:FALSE
SUMMARY:The Whiting Presents ''STOMP''
DESCRIPTION:Enjoy this unforgettable experience\, for all ages\, as this eight-member troupe uses everything but conventional percussion instruments - matchboxes\, wooden poles\, brooms\, garbage cans\, Zippo lighters\, hubcaps and more - to fill the stage with magnificent rhythms. For details\, ticket information and a schedule of upcoming shows visit www.thewhiting.com.
X-ALT-DESC;FMTTYPE=text/html:Enjoy this unforgettable experience\, for all ages\, as this eight-member troupe uses everything but conventional percussion instruments - matchboxes\, wooden poles\, brooms\, garbage cans\, Zippo lighters\, hubcaps and more - to fill the stage with magnificent rhythms. For details\, ticket information and a schedule of upcoming shows visit <a title="The Whiting " href="http://www.thewhiting.com/index.aspx" target="_blank">www.thewhiting.com</a>.
LOCATION:The Whiting 1241 E. Kearsley Street Flint Michigan
UID:e.2606.524
SEQUENCE:3
DTSTAMP:20260421T155914Z
URL:https://members.flintandgeneseechamber.org/events/details/the-whiting-presents-stomp-01-25-2014-524
END:VEVENT

END:VCALENDAR
