BEGIN:VCALENDAR
VERSION:2.0
PRODID:-//ChamberMaster//Event Calendar 2.0//EN
METHOD:PUBLISH
X-PUBLISHED-TTL:P3D
REFRESH-INTERVAL:P3D
CALSCALE:GREGORIAN
BEGIN:VEVENT
DTSTART:20131029T230000Z
DTEND:20131030T010000Z
X-MICROSOFT-CDO-ALLDAYEVENT:FALSE
SUMMARY:The Whiting Presents ''The Brief Wondrous Life of Oscar Wao''
DESCRIPTION:This Literature to Life presentation features the delicately brutal words of Junot Diaz in this Pulitzer Prize-winning novel about an overweight Dominican boy growing up in Paterson\, New Jersey obsessed with science fiction and fantasy novels\, falling in love and the curse that has plagued his family for generations. The audience will come to understand the culture of fear and violence that has resulted from Trujillo's 30+ year dictatorship of the Dominican Republic and the importance of facing fear and love. For details\, ticket information and a schedule of upcoming shows visit www.thewhiting.com.
X-ALT-DESC;FMTTYPE=text/html:This <em>Literature to Life</em> presentation features the delicately brutal words of Junot Diaz in this Pulitzer Prize-winning novel about an overweight Dominican boy growing up in Paterson\, New Jersey obsessed with science fiction and fantasy novels\, falling in love and the curse that has plagued his family for generations. The audience will come to understand the culture of fear and violence that has resulted from Trujillo's 30+ year dictatorship of the Dominican Republic and the importance of facing fear and love. For details\, ticket information and a schedule of upcoming shows visit <a title="The Whiting " href="http://www.thewhiting.com/index.aspx" target="_blank">www.thewhiting.com</a>.
LOCATION:The Whiting 1241 E. Kearsley St. Flint Michigan 48503
UID:e.2606.517
SEQUENCE:3
DTSTAMP:20260421T203407Z
URL:https://members.flintandgeneseechamber.org/events/details/the-whiting-presents-the-brief-wondrous-life-of-oscar-wao-10-29-2013-517
END:VEVENT

END:VCALENDAR
