BEGIN:VCALENDAR
VERSION:2.0
PRODID:-//ChamberMaster//Event Calendar 2.0//EN
METHOD:PUBLISH
X-PUBLISHED-TTL:P3D
REFRESH-INTERVAL:P3D
CALSCALE:GREGORIAN
BEGIN:VEVENT
DTSTART:20140422T230000Z
DTEND:20140423T010000Z
X-MICROSOFT-CDO-ALLDAYEVENT:FALSE
SUMMARY:The Whiting Presents ''The Giver''
DESCRIPTION:Newly adapted by American Place Theatre's Associate Artist Director Elise Thoron\, this piece features sixty minutes of solo-performance focusing on the relationship between the young Jonas and his mentor\, The Giver. As Jonas trains to become the Receiver of Memories\, the buried truth about the world that he was born into becomes hauntingly clear to both Jonas and the audience. Enhanced by interactive discussion\, this performance allows the audience to explore themes including individuality\, ethics and social constructs. The evening includes a 15 minute pre-show interactive discussion\, one hour performance and a 15 minute post-show discussion. For details\, ticket information and a schedule of upcoming shows visit www.thewhiting.com.
X-ALT-DESC;FMTTYPE=text/html:Newly adapted by American Place Theatre's Associate Artist Director Elise Thoron\, this piece features sixty minutes of solo-performance focusing on the relationship between the young Jonas and his mentor\, The Giver. As Jonas trains to become the Receiver of Memories\, the buried truth about the world that he was born into becomes hauntingly clear to both Jonas and the audience. Enhanced by interactive discussion\, this performance allows the audience to explore themes including individuality\, ethics and social constructs. The evening includes a 15 minute pre-show interactive discussion\, one hour performance and a 15 minute post-show discussion. For details\, ticket information and a schedule of upcoming shows visit <a title="The Whiting " href="http://www.thewhiting.com/index.aspx" target="_blank">www.thewhiting.com</a>.
LOCATION:The Whiting 1241 E. Kearsley St. Flint Michigan 48503
UID:e.2606.539
SEQUENCE:3
DTSTAMP:20260421T112356Z
URL:https://members.flintandgeneseechamber.org/events/details/the-whiting-presents-the-giver-04-22-2014-539
END:VEVENT

END:VCALENDAR
