BEGIN:VCALENDAR
VERSION:2.0
PRODID:-//ChamberMaster//Event Calendar 2.0//EN
METHOD:PUBLISH
X-PUBLISHED-TTL:P3D
REFRESH-INTERVAL:P3D
CALSCALE:GREGORIAN
BEGIN:VEVENT
DTSTART:20131222T200000Z
DTEND:20131222T220000Z
X-MICROSOFT-CDO-ALLDAYEVENT:FALSE
SUMMARY:The Whiting Presents ''The Holiday Pops'' Featuring The Flint Symphony Orchestra
DESCRIPTION:Music and song. Carols and choruses. Strings and bows and joyous merriment enliven this musical extravaganza featuring The Flint Symphony Orchestra\, Maestro Enrique Diemecke\, Flint Festival Chorus with members of area high school choirs\, Flint School of Performing Arts Students and additional musical groups. Hosted by ABC12's Angie Hendershot and Matt Franklin. For details\, ticket information and a schedule of upcoming shows visit www.thewhiting.com.
X-ALT-DESC;FMTTYPE=text/html:Music and song. Carols and choruses. Strings and bows and joyous merriment enliven this musical extravaganza featuring The Flint Symphony Orchestra\, Maestro Enrique Diemecke\, Flint Festival Chorus with members of area high school choirs\, Flint School of Performing Arts Students and additional musical groups. Hosted by ABC12's Angie Hendershot and Matt Franklin. For details\, ticket information and a schedule of upcoming shows visit <a title="The Whiting " href="http://www.thewhiting.com/index.aspx" target="_blank">www.thewhiting.com</a>.
LOCATION:The Whiting 1241 E. Kearsley St. Flint Michigan 48503
UID:e.2606.522
SEQUENCE:3
DTSTAMP:20260421T171642Z
URL:https://members.flintandgeneseechamber.org/events/details/the-whiting-presents-the-holiday-pops-featuring-the-flint-symphony-orchestra-12-22-2013-522
END:VEVENT

END:VCALENDAR
