BEGIN:VCALENDAR
VERSION:2.0
PRODID:-//ChamberMaster//Event Calendar 2.0//EN
METHOD:PUBLISH
X-PUBLISHED-TTL:P3D
REFRESH-INTERVAL:P3D
CALSCALE:GREGORIAN
BEGIN:VEVENT
DTSTART:20140511T000000Z
DTEND:20140511T020000Z
X-MICROSOFT-CDO-ALLDAYEVENT:FALSE
SUMMARY:The Whiting Presents ''The Midtown Men''
DESCRIPTION:This spectacular production reunites four stars from the original cast of Broadway's Jersey Boys. They took Broadway by storm in one of the biggest hits of all-time and now they're together again and back in Flint bringing to life their favorite sixties hits from The Beatles\, The Beach Boys\, Motown\, The Four Seasons and more. Arrive one hour prior to show and enjoy a performance by local artist\, Pat Cronley. For details\, ticket information and a schedule of upcoming shows visit www.thewhiting.com.
X-ALT-DESC;FMTTYPE=text/html:This spectacular production reunites four stars from the original cast of Broadway's Jersey Boys. They took Broadway by storm in one of the biggest hits of all-time and now they're together again and back in Flint bringing to life their favorite sixties hits from The Beatles\, The Beach Boys\, Motown\, The Four Seasons and more. Arrive one hour prior to show and enjoy a performance by local artist\, Pat Cronley. For details\, ticket information and a schedule of upcoming shows visit <a title="The Whiting " href="http://www.thewhiting.com/index.aspx" target="_blank">www.thewhiting.com</a>.
LOCATION:The Whiting 1241 E. Kearsley St. Flint Michigan 48503
UID:e.2606.541
SEQUENCE:3
DTSTAMP:20260421T102142Z
URL:https://members.flintandgeneseechamber.org/events/details/the-whiting-presents-the-midtown-men-05-10-2014-541
END:VEVENT

END:VCALENDAR
