BEGIN:VCALENDAR
VERSION:2.0
PRODID:-//ChamberMaster//Event Calendar 2.0//EN
METHOD:PUBLISH
X-PUBLISHED-TTL:P3D
REFRESH-INTERVAL:P3D
CALSCALE:GREGORIAN
BEGIN:VEVENT
DTSTART:20131102T000000Z
DTEND:20131102T020000Z
X-MICROSOFT-CDO-ALLDAYEVENT:FALSE
SUMMARY:The Whiting Presents ''This is the 60's''
DESCRIPTION:Experience this multimedia musical show exploring the events that shaped the music and the music that helped shape the events of one of the world's most turbulent periods. This psychedelic stage production features classic songs from The Beatles\, The Rolling Stones\, The Who\, Jimi Hendrix\, Janis Joplin and many more. For details\, ticket information and a schedule of upcoming shows visit www.thewhiting.com.
X-ALT-DESC;FMTTYPE=text/html:Experience this multimedia musical show exploring the events that shaped the music and the music that helped shape the events of one of the world's most turbulent periods. This psychedelic stage production features classic songs from The Beatles\, The Rolling Stones\, The Who\, Jimi Hendrix\, Janis Joplin and many more. For details\, ticket information and a schedule of upcoming shows visit <a title="The Whiting " href="http://www.thewhiting.com/index.aspx" target="_blank">www.thewhiting.com</a>.
LOCATION:The Whiting 1241 E. Kearsley Street Flint Michigan
UID:e.2606.518
SEQUENCE:3
DTSTAMP:20260421T184929Z
URL:https://members.flintandgeneseechamber.org/events/details/the-whiting-presents-this-is-the-60-s-11-01-2013-518
END:VEVENT

END:VCALENDAR
