BEGIN:VCALENDAR
VERSION:2.0
PRODID:-//ChamberMaster//Event Calendar 2.0//EN
METHOD:PUBLISH
X-PUBLISHED-TTL:P3D
REFRESH-INTERVAL:P3D
CALSCALE:GREGORIAN
BEGIN:VEVENT
DTSTART:20140419T000000Z
DTEND:20140419T020000Z
X-MICROSOFT-CDO-ALLDAYEVENT:FALSE
SUMMARY:The Whiting Presents ''West Side Story''
DESCRIPTION:Five decades have not dimmed the extraordinary choreography or the score that pulsates throughout this dance-driven musical. West Side Story soars as the greatest love story of all time\, from the first note to the final breath. For details\, ticket information and a schedule of upcoming shows visit www.thewhiting.com. Recommended for ages 13 and older.
X-ALT-DESC;FMTTYPE=text/html:Five decades have not dimmed the extraordinary choreography or the score that pulsates throughout this dance-driven musical. West Side Story soars as the greatest love story of all time\, from the first note to the final breath. For details\, ticket information and a schedule of upcoming shows visit <a title="The Whiting " href="http://www.thewhiting.com/index.aspx" target="_blank">www.thewhiting.com</a>. Recommended for ages 13 and older.
LOCATION:The Whiting 1241 E. Kearsley St. Flint Michigan 48503
UID:e.2606.536
SEQUENCE:3
DTSTAMP:20260421T112354Z
URL:https://members.flintandgeneseechamber.org/events/details/the-whiting-presents-west-side-story-04-18-2014-536
END:VEVENT

END:VCALENDAR
