BEGIN:VCALENDAR
VERSION:2.0
PRODID:-//ChamberMaster//Event Calendar 2.0//EN
METHOD:PUBLISH
X-PUBLISHED-TTL:P3D
REFRESH-INTERVAL:P3D
CALSCALE:GREGORIAN
BEGIN:VEVENT
DTSTART:20140212T000000Z
DTEND:20140212T020000Z
X-MICROSOFT-CDO-ALLDAYEVENT:FALSE
SUMMARY:The Whiting Presents William Shakespeare's ''Hamlet''
DESCRIPTION:Believed by many to be the best of Shakespeare's work\, Hamlet tells the story of The Prince of Denmark as he seeks vengeance for his father's murder. The tale\, accompanying him on his journey of self-actualization\, vividly portrays overwhelming grief and rage while exploring themes of danger\, revenge and moral corruption. For details\, ticket information and a schedule of upcoming shows visit www.thewhiting.com.
X-ALT-DESC;FMTTYPE=text/html:Believed by many to be the best of Shakespeare's work\, Hamlet tells the story of The Prince of Denmark as he seeks vengeance for his father's murder. The tale\, accompanying him on his journey of self-actualization\, vividly portrays overwhelming grief and rage while exploring themes of danger\, revenge and moral corruption. For details\, ticket information and a schedule of upcoming shows visit <a title="The Whiting " href="http://www.thewhiting.com/index.aspx" target="_blank">www.thewhiting.com</a>.
LOCATION:The Whiting 1241 E. Kearsley Street Flint Michigan
UID:e.2606.529
SEQUENCE:3
DTSTAMP:20260421T142631Z
URL:https://members.flintandgeneseechamber.org/events/details/the-whiting-presents-william-shakespeare-s-hamlet-02-11-2014-529
END:VEVENT

END:VCALENDAR
