BEGIN:VCALENDAR
VERSION:2.0
PRODID:-//ChamberMaster//Event Calendar 2.0//EN
METHOD:PUBLISH
X-PUBLISHED-TTL:P3D
REFRESH-INTERVAL:P3D
CALSCALE:GREGORIAN
BEGIN:VEVENT
DTSTART:20251129T180000Z
DTEND:20251129T220000Z
X-MICROSOFT-CDO-ALLDAYEVENT:FALSE
SUMMARY:‘Tis the Season Weekends @ Frankenmuth River Place Shops
DESCRIPTION:Experience the magic of the holiday season at River Place Shops   activities include strolling carol performances and a meet-and-greet opportunity with Santa and Mrs. Claus\, and his North Pole team. Free and open to the public\; activity times are subject to change due to weather.\n\n \n\nAll activities take place outdoors in our elaborately decorated Santa's Workshop and are weather-dependent.\n\n \n\nFor store hours and updates\, please check www.frankenmuthriverplace.com.\n\n \n\nSchedule of Events:\n\nSaturdays - November 29\, December 6\, December 13\, December 20\n\nSundays - November 30\, December 7\, December 14\, December 21\n\n \n\n1 - 5 PM: Visit Santa Claus and Mrs. Claus on the Fest Platz stage near the Cass River Bar and Grill. Share what you want for Christmas with the Head Elf himself\, atop his magical Christmas throne\, surrounded by a North Pole-themed background. Photos encouraged.\n\n \n\n1 - 4 PM: Enjoy strolling musical performances by carolers featuring classic Christmas carols and new favorites. Tips encouraged if you enjoy the show!*Please note there will be no carolers on Dec. 21st!
X-ALT-DESC;FMTTYPE=text/html:<p style="margin-left:0px\; margin-right:0px">Experience the magic of the holiday season at River Place Shops &ndash\; activities include strolling carol performances and a meet-and-greet opportunity with Santa and Mrs. Claus\, and his North Pole team. Free and open to the public\; activity times are subject to change due to weather.</p>\n\n<p style="margin-left:0px\; margin-right:0px">&nbsp\;</p>\n\n<p style="margin-left:0px\; margin-right:0px">All activities take place outdoors in our elaborately decorated Santa&rsquo\;s Workshop and are weather-dependent.</p>\n\n<p style="margin-left:0px\; margin-right:0px">&nbsp\;</p>\n\n<p style="margin-left:0px\; margin-right:0px">For store hours and updates\, please check&nbsp\;<a href="https://l.facebook.com/l.php?u=http%3A%2F%2Fwww.frankenmuthriverplace.com%2F%3Ffbclid%3DIwZXh0bgNhZW0CMTAAAR28eN4cF7p7B_40jwrKIyxkzrLhX2G7ehGA_M9ml8xgUlDoveIWEzqSTd8_aem_nhEqrpgikvNbzPPVMjgqiA&amp\;h=AT2Dn0XBhyPIUMVeVHAPRnGC6RBh94K65I0QhittT8rbuDIigqxJHGM5__p17rzJuJGDAq4K1hFq_Ea4peoJTVqOtAqTWe3PyAoAL-GetViq27TJv32knbFlShhMQVJ9PpfZ&amp\;__tn__=q&amp\;c[0]=AT3jbGpJVyRaV5JR-tbIsNfc3aXeFR40sPMF3UjWnhf-0q4U3zagT8ZJzk0m1CCtrhg7Smzl2BiN3qMAVhSNGJsn649bbnLq7fGhzzGz_k4wNxX7a_ln4Q7iY5g7lSpckc5Ypb1P28wCZvtBGpjaqq3AWFcvKtndLyRtLMsN2acXfRkTqSor" rel="noopener" style="box-sizing: inherit\; background: transparent\; text-decoration-line: none\; margin: 0px\; padding: 0px\; border: 0px\; vertical-align: baseline\; outline: none !important\;" target="_blank">www.frankenmuthriverplace.com.</a></p>\n\n<p style="margin-left:0px\; margin-right:0px">&nbsp\;</p>\n\n<p style="margin-left:0px\; margin-right:0px"><strong>Schedule of Events:</strong><br />\nSaturdays - November 29\,&nbsp\;December 6\, December 13\, December 20</p>\n\n<p style="margin-left:0px\; margin-right:0px">Sundays -&nbsp\;November 30\, December 7\, December 14\, December 21</p>\n\n<p style="margin-left:0px\; margin-right:0px">&nbsp\;</p>\n\n<p style="margin-left:0px\; margin-right:0px">1 - 5&nbsp\;PM: Visit Santa Claus and Mrs. Claus on the Fest Platz stage near the Cass River Bar and Grill. Share what you want for Christmas with the Head Elf himself\, atop his magical Christmas throne\, surrounded by a North Pole-themed background. Photos encouraged.</p>\n\n<p style="margin-left:0px\; margin-right:0px">&nbsp\;</p>\n\n<p style="margin-left:0px\; margin-right:0px">1 - 4 PM: Enjoy strolling musical performances by carolers featuring classic Christmas carols and new favorites. Tips encouraged if you enjoy the show!*Please note there will be no carolers on Dec. 21st!</p>\n
LOCATION:Frankenmuth River Place Shops 925 S Main St\, Frankenmuth\, MI\, United States\, 48734
UID:e.2606.19871
SEQUENCE:3
DTSTAMP:20260421T193640Z
URL:https://members.flintandgeneseechamber.org/events/details/tis-the-season-weekends-frankenmuth-river-place-shops-19871
END:VEVENT

END:VCALENDAR
