BEGIN:VCALENDAR
VERSION:2.0
PRODID:-//ChamberMaster//Event Calendar 2.0//EN
METHOD:PUBLISH
X-PUBLISHED-TTL:P3D
REFRESH-INTERVAL:P3D
CALSCALE:GREGORIAN
BEGIN:VEVENT
DTSTART:20140617T160000Z
DTEND:20140617T170000Z
X-MICROSOFT-CDO-ALLDAYEVENT:FALSE
SUMMARY:TMI Climate Solutions - Ribbon Cutting and Grand Opening
DESCRIPTION:TMI Climate Solutions will host a Grand Opening and Ribbon Cutting Ceremony for the expansion of their facility. The CEO of MiTek will be attending the even to do the honors of cutting the ribbon.
X-ALT-DESC;FMTTYPE=text/html:TMI Climate Solutions will host a Grand Opening and Ribbon Cutting Ceremony for the expansion of their facility. The CEO of MiTek will be attending the even to do the honors of cutting the ribbon.
LOCATION:TMI Climate Solutions 200 Quality Way Holly MI 48442
UID:e.2606.856
SEQUENCE:3
DTSTAMP:20260421T084816Z
URL:https://members.flintandgeneseechamber.org/events/details/tmi-climate-solutions-ribbon-cutting-and-grand-opening-06-17-2014-856
END:VEVENT

END:VCALENDAR
