BEGIN:VCALENDAR
VERSION:2.0
PRODID:-//ChamberMaster//Event Calendar 2.0//EN
METHOD:PUBLISH
X-PUBLISHED-TTL:P3D
REFRESH-INTERVAL:P3D
CALSCALE:GREGORIAN
BEGIN:VEVENT
DTSTART:20131012T160000Z
DTEND:20131231T000000Z
X-MICROSOFT-CDO-ALLDAYEVENT:FALSE
SUMMARY:''Toulouse-Lautrec & His World'' exhibition at the Flint Institute of Arts
DESCRIPTION:Toulouse-Lautrec is best known for his works depicting scenes from cabarets\, theaters\, dance halls and brothels. These were themes that the artist lived\, beginning in 1885 when he moved to Montmartre and immersed himself in its nightlife. His interest lay in portraying people\, no only those he met during his nights on the town\, but also his friends and the working-class citizens of Paris. He was a hard-working artist\, producing an enormous body of work in a wide range of media. This exhibition features around 150 original works on paper\, including 35 drawings.\n\nFIA is open Monday-Wednesday & Friday 12 p.m. to 5 p.m.\, Thursday 12 p.m. to 9 p.m.\, Saturday 10 a.m. to 5 p.m. and Sunday 1 p.m. to 5 p.m. For details and a schedule of upcoming exhibits visit www.flintarts.org.
X-ALT-DESC;FMTTYPE=text/html:Toulouse-Lautrec is best known for his works depicting scenes from cabarets\, theaters\, dance halls and brothels. These were themes that the artist lived\, beginning in 1885 when he moved to Montmartre and immersed himself in its nightlife. His interest lay in portraying people\, no only those he met during his nights on the town\, but also his friends and the working-class citizens of Paris. He was a hard-working artist\, producing an enormous body of work in a wide range of media. This exhibition features around 150 original works on paper\, including 35 drawings.\n\nFIA is open Monday-Wednesday &amp\; Friday 12 p.m. to 5 p.m.\, Thursday 12 p.m. to 9 p.m.\, Saturday 10 a.m. to 5 p.m. and Sunday 1 p.m. to 5 p.m. For details and a schedule of upcoming exhibits visit <a title="Flint Institute of Arts" href="http://flintarts.org" target="_blank">www.flintarts.org</a>.
LOCATION:Flint Institute of Arts 1120 E. Kearsley Street Flint MI 48502
UID:e.2606.236
SEQUENCE:3
DTSTAMP:20260421T172216Z
URL:https://members.flintandgeneseechamber.org/events/details/toulouse-lautrec-his-world-exhibition-at-the-flint-institute-of-arts-10-12-2013-236
END:VEVENT

END:VCALENDAR
