BEGIN:VCALENDAR
VERSION:2.0
PRODID:-//ChamberMaster//Event Calendar 2.0//EN
METHOD:PUBLISH
X-PUBLISHED-TTL:P3D
REFRESH-INTERVAL:P3D
CALSCALE:GREGORIAN
BEGIN:VEVENT
DTSTART:20131201T150000Z
DTEND:20140330T210000Z
X-MICROSOFT-CDO-ALLDAYEVENT:FALSE
SUMMARY:''Truck and Bus'' at Sloan Museum's Buick Automotive Gallery
DESCRIPTION:Partnering with General Motors\, Sloan Museum will host a special exhibit at Buick Gallery featuring the workhorses of the automotive world - pick-up trucks. From their infancy as motorized versions of delivery wagons\, these trucks have developed into essential tools used by farmers\, ranchers\, construction workers and firefighters. However\, many people who rarely haul anything other than groceries now enjoy these vehicles for their ruggedness and style. This exhibit focuses on the theme that today's pick-up truck is far more than a simple automobile with a cab and a storage bed. Is is a sophisticated and well-designed vehicle that "gets things done" and enables an increasing number of people to pursue active modern lifestyles. The Buick Automotive Gallery is open Monday-Friday from 10 a.m. to 5 p.m. and Saturday from 12 p.m. to 5 p.m. For details and a schedule of upcoming exhibits visit www.sloanlongway.org.
X-ALT-DESC;FMTTYPE=text/html:Partnering with General Motors\, Sloan Museum will host a special exhibit at Buick Gallery featuring the workhorses of the automotive world - pick-up trucks. From their infancy as motorized versions of delivery wagons\, these trucks have developed into essential tools used by farmers\, ranchers\, construction workers and firefighters. However\, many people who rarely haul anything other than groceries now enjoy these vehicles for their ruggedness and style. This exhibit focuses on the theme that today's pick-up truck is far more than a simple automobile with a cab and a storage bed. Is is a sophisticated and well-designed vehicle that "gets things done" and enables an increasing number of people to pursue active modern lifestyles. The Buick Automotive Gallery is open Monday-Friday from 10 a.m. to 5 p.m. and Saturday from 12 p.m. to 5 p.m. For details and a schedule of upcoming exhibits visit <a title="Buick Automotive Gallery" href="http://sloanlongway.org/buick-gallery/about-buick-gallery" target="_blank">www.sloanlongway.org</a>.
LOCATION:Buick Automotive Gallery and Research Center 303 Walnut Street Flint Michigan
UID:e.2606.747
SEQUENCE:3
DTSTAMP:20260421T143522Z
URL:https://members.flintandgeneseechamber.org/events/details/truck-and-bus-at-sloan-museum-s-buick-automotive-gallery-12-01-2013-747
END:VEVENT

END:VCALENDAR
