BEGIN:VCALENDAR
VERSION:2.0
PRODID:-//ChamberMaster//Event Calendar 2.0//EN
METHOD:PUBLISH
X-PUBLISHED-TTL:P3D
REFRESH-INTERVAL:P3D
CALSCALE:GREGORIAN
BEGIN:VEVENT
DTSTART:20251025T160000Z
DTEND:20251025T200000Z
X-MICROSOFT-CDO-ALLDAYEVENT:FALSE
SUMMARY:Trunkin and Treatin at Wyndham Grand Blanc
DESCRIPTION:Join us for a safe and family-friendly Halloween celebration at Wyndham!\n\nKids can fill their bags with candy while enjoying games\, fun activities\, and a chance to win prizes.\n\n\n	\n	Trunk-or-Treating with lots of candy\n	\n	\n	Fun games for all ages\n	\n	\n	Prizes & giveaways\n	\n	\n	A festive community atmosphere\n	\n\n\nFree admission   bring the kids in costume and get ready for a spooktacular time!
X-ALT-DESC;FMTTYPE=text/html:<p>Join us for a safe and family-friendly Halloween celebration at Wyndham!<br />\nKids can fill their bags with candy while enjoying games\, fun activities\, and a chance to win prizes.</p>\n\n<ul>\n	<li>\n	<p>Trunk-or-Treating with lots of candy</p>\n	</li>\n	<li>\n	<p>Fun games for all ages</p>\n	</li>\n	<li>\n	<p>Prizes &amp\; giveaways</p>\n	</li>\n	<li>\n	<p>A festive community atmosphere</p>\n	</li>\n</ul>\n\n<p>Free admission &ndash\; bring the kids in costume and get ready for a spooktacular time!</p>\n
LOCATION:Wyndham Grand Blanc Bishop Airport Conference Center Parking lot 5353 Gateway Centre Drive Flint\, MI 48507
UID:e.2606.20102
SEQUENCE:3
DTSTAMP:20260421T224010Z
URL:https://members.flintandgeneseechamber.org/events/details/trunkin-and-treatin-at-wyndham-grand-blanc-20102
END:VEVENT

END:VCALENDAR
