BEGIN:VCALENDAR
VERSION:2.0
PRODID:-//ChamberMaster//Event Calendar 2.0//EN
METHOD:PUBLISH
X-PUBLISHED-TTL:P3D
REFRESH-INTERVAL:P3D
CALSCALE:GREGORIAN
BEGIN:VEVENT
DTSTART:20140222T003000Z
DTEND:20140223T023000Z
X-MICROSOFT-CDO-ALLDAYEVENT:FALSE
SUMMARY:U-of-M Flint Theatre & Dance Presents ''God of Carnage''
DESCRIPTION:After two eleven-year old boys have a playground scuffle\, their parents meet to resolve the matter. Despite their best attempts at courtesy and respect\, hard truths and insecurities surface\, pitting couple against couple\, men against women and even husband against wife. This Broadway hit and winner of the 2009 Tony Award for Best Play\, takes a painfully funny look at parents behaving badly. For details\, ticket information and a schedule of upcoming shows visit www.umflint.edu/theatredance.
X-ALT-DESC;FMTTYPE=text/html:After two eleven-year old boys have a playground scuffle\, their parents meet to resolve the matter. Despite their best attempts at courtesy and respect\, hard truths and insecurities surface\, pitting couple against couple\, men against women and even husband against wife. This Broadway hit and winner of the 2009 Tony Award for Best Play\, takes a painfully funny look at parents behaving badly. For details\, ticket information and a schedule of upcoming shows visit <a title="U-of-M Flint Department of Theatre &amp\; Dance" href="http://www.umflint.edu/theatredance/" target="_blank">www.umflint.edu/theatredance</a>.
LOCATION:U-of-M Flint Department of Theatre & Dance 303 E. Kearsley Street Flint Michigan
UID:e.2606.467
SEQUENCE:3
DTSTAMP:20260421T143501Z
URL:https://members.flintandgeneseechamber.org/events/details/u-of-m-flint-theatre-dance-presents-god-of-carnage-02-21-2014-467
END:VEVENT

END:VCALENDAR
