BEGIN:VCALENDAR
VERSION:2.0
PRODID:-//ChamberMaster//Event Calendar 2.0//EN
METHOD:PUBLISH
X-PUBLISHED-TTL:P3D
REFRESH-INTERVAL:P3D
CALSCALE:GREGORIAN
BEGIN:VEVENT
DTSTART:20140413T180000Z
DTEND:20140413T200000Z
X-MICROSOFT-CDO-ALLDAYEVENT:FALSE
SUMMARY:U-of-M Flint Theatre & Dance Presents ''Her Story''
DESCRIPTION:Each season\, this annual dance concert explores and celebrates a specific theme through a repertoire of dynamic\, original choreography. For the 2013-2014 season\, the performance will honor great women in History through dance. For details\, ticket information and a schedule of upcoming shows visit www.umflint.edu/theatredance.
X-ALT-DESC;FMTTYPE=text/html:Each season\, this annual dance concert explores and celebrates a specific theme through a repertoire of dynamic\, original choreography. For the 2013-2014 season\, the performance will honor great women in History through dance. For details\, ticket information and a schedule of upcoming shows visit <a title="U-of-M Flint Department of Theatre &amp\; Dance" href="http://www.umflint.edu/theatredance/" target="_blank">www.umflint.edu/theatredance</a>.
LOCATION:U-of-M Flint Department of Theatre & Dance 303 E. Kearsley Street Flint Michigan
UID:e.2606.474
SEQUENCE:3
DTSTAMP:20260421T114249Z
URL:https://members.flintandgeneseechamber.org/events/details/u-of-m-flint-theatre-dance-presents-her-story-04-13-2014-474
END:VEVENT

END:VCALENDAR
