BEGIN:VCALENDAR
VERSION:2.0
PRODID:-//ChamberMaster//Event Calendar 2.0//EN
METHOD:PUBLISH
X-PUBLISHED-TTL:P3D
REFRESH-INTERVAL:P3D
CALSCALE:GREGORIAN
BEGIN:VEVENT
DTSTART:20131101T233000Z
DTEND:20131103T013000Z
X-MICROSOFT-CDO-ALLDAYEVENT:FALSE
SUMMARY:U-of-M Flint Theatre & Dance Presents ''Little Shop of Horrors''
DESCRIPTION:Life on Skid row is bleak until Seymour\, a nerdy floral assistant\, discovers a strange and mysterious plant with an appetite for R&B singing and fresh blood. Will this mean\, green carnivore achieve world domination\, or will Seymour muster the courage to silence it? This all-time\, best-selling musical will keep audiences of all ages rolling with laughter. For details and a schedule of upcoming shows visit www.umflint.edu/theatredance.
X-ALT-DESC;FMTTYPE=text/html:Life on Skid row is bleak until Seymour\, a nerdy floral assistant\, discovers a strange and mysterious plant with an appetite for R&amp\;B singing and fresh blood. Will this mean\, green carnivore achieve world domination\, or will Seymour muster the courage to silence it? This all-time\, best-selling musical will keep audiences of all ages rolling with laughter. For details and a schedule of upcoming shows visit <a title="U-of-M Flint Department of Theatre &amp\; Dance" href="http://www.umflint.edu/theatredance/" target="_blank">www.umflint.edu/theatredance</a>.\n\n&nbsp\;\n\n&nbsp\;
LOCATION:U-of-M Flint Department of Theatre & Dance 303 E. Kearsley Street Flint Michigan
UID:e.2606.455
SEQUENCE:3
DTSTAMP:20260421T185724Z
URL:https://members.flintandgeneseechamber.org/events/details/u-of-m-flint-theatre-dance-presents-little-shop-of-horrors-11-01-2013-455
END:VEVENT

END:VCALENDAR
