BEGIN:VCALENDAR
VERSION:2.0
PRODID:-//ChamberMaster//Event Calendar 2.0//EN
METHOD:PUBLISH
X-PUBLISHED-TTL:P3D
REFRESH-INTERVAL:P3D
CALSCALE:GREGORIAN
BEGIN:VEVENT
DTSTART:20140330T180000Z
DTEND:20140330T200000Z
X-MICROSOFT-CDO-ALLDAYEVENT:FALSE
SUMMARY:U-of-M Flint Theatre & Dance Presents ''The Ash Girl''
DESCRIPTION:With her mother dead and her father away\, Ash Girl lives a life of isolation and oppression\, dominated by her stepmother and stepsisters. When an invitation to the ball arrives from the prince\, she finds the strength to go with the help of her friends\, some of whom come from unexpected places. When she gets home\, Ash Girl realizes that in order to regain the fleeting happiness found in the arms of the prince\, she must fight the monsters that have slithered and insinuated their way into her heart and mind. Enjoy this meta-theatrical re-telling of the Cinderella fairly tale. For details\, ticket information and a schedule of upcoming shows visit www.umflint.edu/theatredance.
X-ALT-DESC;FMTTYPE=text/html:With her mother dead and her father away\, Ash Girl lives a life of isolation and oppression\, dominated by her stepmother and stepsisters. When an invitation to the ball arrives from the prince\, she finds the strength to go with the help of her friends\, some of whom come from unexpected places. When she gets home\, Ash Girl realizes that in order to regain the fleeting happiness found in the arms of the prince\, she must fight the monsters that have slithered and insinuated their way into her heart and mind. Enjoy this meta-theatrical re-telling of the Cinderella fairly tale. For details\, ticket information and a schedule of upcoming shows visit <a title="U-of-M Flint Department of Theatre &amp\; Dance" href="http://www.umflint.edu/theatredance/" target="_blank">www.umflint.edu/theatredance</a>.
LOCATION:U-of-M Flint Department of Theatre & Dance 303 E. Kearsley Street Flint Michigan
UID:e.2606.472
SEQUENCE:3
DTSTAMP:20260421T131707Z
URL:https://members.flintandgeneseechamber.org/events/details/u-of-m-flint-theatre-dance-presents-the-ash-girl-03-30-2014-472
END:VEVENT

END:VCALENDAR
