BEGIN:VCALENDAR
VERSION:2.0
PRODID:-//ChamberMaster//Event Calendar 2.0//EN
METHOD:PUBLISH
X-PUBLISHED-TTL:P3D
REFRESH-INTERVAL:P3D
CALSCALE:GREGORIAN
BEGIN:VEVENT
DTSTART:20131109T003000Z
DTEND:20131109T023000Z
X-MICROSOFT-CDO-ALLDAYEVENT:FALSE
SUMMARY:U-of-M Flint Theatre & Dance Presents ''The Local''
DESCRIPTION:This play was born from the Department of Theatre and Dance's 2012 collaborative playwright project\, as a way to honor the venerable music venue: The Flint Local 432. For almost 3 decades\, this all-ages\, substance-free club has brought the best of underground music to Flint. The Local is a story celebrating community\, creativity and punk rock. For details and a schedule of upcoming shows visit www.umflint.edu/theatredance.
X-ALT-DESC;FMTTYPE=text/html:This play was born from the Department of Theatre and Dance's 2012 collaborative playwright project\, as a way to honor the venerable music venue: The Flint Local 432. For almost 3 decades\, this all-ages\, substance-free club has brought the best of underground music to Flint. The <em>Local</em> is a story celebrating community\, creativity and punk rock. For details and a schedule of upcoming shows visit <a title="U-of-M Flint Department of Theatre &amp\; Dance" href="http://www.umflint.edu/theatredance/" target="_blank">www.umflint.edu/theatredance</a>.
LOCATION:U-of-M Flint Department of Theatre & Dance 303 E. Kearsley Street Flint Michigan
UID:e.2606.460
SEQUENCE:3
DTSTAMP:20260421T185550Z
URL:https://members.flintandgeneseechamber.org/events/details/u-of-m-flint-theatre-dance-presents-the-local-11-08-2013-460
END:VEVENT

END:VCALENDAR
