BEGIN:VCALENDAR
VERSION:2.0
PRODID:-//ChamberMaster//Event Calendar 2.0//EN
METHOD:PUBLISH
X-PUBLISHED-TTL:P3D
REFRESH-INTERVAL:P3D
CALSCALE:GREGORIAN
BEGIN:VEVENT
DTSTART:20140118T190000Z
DTEND:20140118T210000Z
X-MICROSOFT-CDO-ALLDAYEVENT:FALSE
SUMMARY:University of Michigan-Flint Hockey
DESCRIPTION:The University of Michigan-Flint Hockey team will play against Saginaw Valley State University at Flint Iceland Arena. For details and a schedule of upcoming games visit www.hockeyclubumflint.com.
X-ALT-DESC;FMTTYPE=text/html:The University of Michigan-Flint Hockey team will play against Saginaw Valley State University at Flint Iceland Arena. For details and a schedule of upcoming games visit <a title="University of Michigan-Flint Hockey" href="http://hockeyclubumflint.com/" target="_blank">www.hockeyclubumflint.com</a>.
LOCATION:Flint Iceland Arena 1160 S. Elms Road Flint Michigan
UID:e.2606.611
SEQUENCE:3
DTSTAMP:20260421T160344Z
URL:https://members.flintandgeneseechamber.org/events/details/university-of-michigan-flint-hockey-01-18-2014-611
END:VEVENT

END:VCALENDAR
