BEGIN:VCALENDAR
VERSION:2.0
PRODID:-//ChamberMaster//Event Calendar 2.0//EN
METHOD:PUBLISH
X-PUBLISHED-TTL:P3D
REFRESH-INTERVAL:P3D
CALSCALE:GREGORIAN
BEGIN:VEVENT
DTSTART:20131207T023000Z
DTEND:20131207T043000Z
X-MICROSOFT-CDO-ALLDAYEVENT:FALSE
SUMMARY:University of Michigan-Flint Hockey
DESCRIPTION:The University of Michigan-Flint Hockey team will play against the University of Detroit-Mercy at Flint's Perani Arena & Event Center. For details and a schedule of upcoming games visit www.hockeyclubumflint.com.
X-ALT-DESC;FMTTYPE=text/html:The University of Michigan-Flint Hockey team will play against the University of Detroit-Mercy at Flint's Perani Arena &amp\; Event Center. For details and a schedule of upcoming games visit <a title="University of Michigan-Flint Hockey" href="http://hockeyclubumflint.com/" target="_blank">www.hockeyclubumflint.com</a>.
LOCATION:Perani Arena & Event Center 3501 Lapeer Road Flint Michigan
UID:e.2606.609
SEQUENCE:3
DTSTAMP:20260421T171727Z
URL:https://members.flintandgeneseechamber.org/events/details/university-of-michigan-flint-hockey-12-06-2013-609
END:VEVENT

END:VCALENDAR
