BEGIN:VCALENDAR
VERSION:2.0
PRODID:-//ChamberMaster//Event Calendar 2.0//EN
METHOD:PUBLISH
X-PUBLISHED-TTL:P3D
REFRESH-INTERVAL:P3D
CALSCALE:GREGORIAN
BEGIN:VEVENT
DTSTART:20131017T113000Z
DTEND:20131017T133000Z
X-MICROSOFT-CDO-ALLDAYEVENT:FALSE
SUMMARY:University of Michigan Flint - School of Business ''Accountability: If You Can Measure It\, You Can Direct It''
DESCRIPTION:The Michigan Family Business Center invites you to an interactive workshop and group discussion -\n"Accountability: If You Can\nMeasure it\, You Can Direct It"\n \nOctober 17\, 2013 - 8:00AM\nWarwick Hills Country Club\n \n\n\n\n\n\n\n\n\n\n\n\n\nThis is a part of a 3 part series entitled\n"Sales\, Employees\, Accountability OH MY!" \n \n\nThis series was recently conducted for Business Owners just like you from all over the State of Michigan & Indiana whose revenues ranged from $1-20 Million. Many were family-owned business which\, as you know\, come with their own unique set of dynamics & challenges. The feedback was so positive that we decided to bring the workshop to the Michigan Family Business Center.\nLet me pose you a question - \n\nIn your business have you ever:\n\n	Felt frustrated trying to reach your outcomes?       \n	Been concerned with how you would make it?        \n	Worried about whether your goals were possible given what you are dealing with?\n\nJoin us at the Warwick Hills Country Club on October 17\, where we will explain that in order to be accountable\, you must first consider your environment - either the environment you are creating\, or the one you are allowing. We will also cover the importance of knowing & measuring where you are currently.\n\n \n\nTo paraphrase what Buckminster Fuller said\; "Seek to Reform the Environment\, Not Man (It's so much easier that way!)"\nIf you've ever thought - Why can't my people be more like me? Or if accountability feels like a four letter word\, then plan to join us for this lively discussion.\n\n \n\nAbout our presenter   \n\nDenise Roberts is a speaker\, trainer\, coach\, business owner and the co-creator of the 3 Part Series\;\n\n"Sales\, Employees\, Accountability OH MY!"\nIn her 23 years of training and educating hundreds of business owners and their teams\, these are the 3 key areas she has seen that will make or break a business!  That is why she co-created this series.\n\n   \n\nThis will be Denise's 3rd appearance for the Michigan Family Business Center and she has brought in some of the largest crowds we've ever had. Why? Because her style is fun and interactive and her topics are informative\, thought provoking and most important\, they gets results!\n\nCome and experience it for yourself on Thursday\, October 17th with breakfast served at 7:30 a.m.\n\n \n\nRSVP Preferred. Click HERE\, or call Anna Swartz at (810) 762-3253 to register by phone.\n\n\n\n\n\n\n\n\n\n\n\n\n\nThe M-Club of Greater Flint is proud to sponsor the Michigan\nFamily Business Center\, Business Seminar Series.\nAAUM members receive special discounts.\n\n\n\n\n\n\n\n\n\n\n\n\n\n\n\n\n\n\n\n\n\n\n\n$30 per person \n\n\n\n\n(includes breakfast)  \n\n*free to MFBC members & UM-Flint Students*\n\n\n\n\n\n\n\n\n\n\n\n\n\n\n\n\n\n\n\n\n\n\n\n\n\n\n\n\n\n\n\nWhen\n\n\n\n\n\n\n\n\n\n\n\n\nThursday\, Oct 17\, 2013\nBreakfast: 7:30 - 8:00 a.m.\nSeminar: 8:00 - 9:30 a.m.\n\n\n\n\n\n\n\n\n\n\n\n\nWhere\n\n\n\n\n\n\n\n\n\n\n\n\nWarwick Hills Country Club\nG-9057 S. Saginaw Rd\nGrand Blanc\, MI 48439\nGet Directions\n\n\n\n\n\n\n\n\n\n\n\n\n\n\n\n\n\n\n\n\n\n\n\n\n\n\n\n\n\n\nReservations Preferred:\n\n\n\n\n\n\n\n\n\n\n\nRSVP HERE
X-ALT-DESC;FMTTYPE=text/html:<p align="center"></p>\n\n<div align="center">\n<table width="100%" border="0" cellspacing="0" cellpadding="0">\n<tbody>\n<tr>\n<td valign="top" width="100%">\n<div align="center">\n<table width="100%" border="0" cellspacing="0" cellpadding="0">\n<tbody>\n<tr>\n<td valign="top" width="100%">\n<div align="center">\n<table width="100%" border="0" cellspacing="0" cellpadding="0">\n<tbody>\n<tr>\n<td valign="top">\n<p align="center"><strong><em>The Michigan Family Business Center invites you to an interactive workshop and group discussion -</em></strong></p>\n<p align="center"><strong>"Accountability: If You Can\nMeasure it\, You Can Direct It"</strong></p>\n<p align="center"><strong> </strong></p>\n<p align="center"><strong>October 17\, 2013 - 8:00AM</strong><strong></strong></p>\n<p align="center"><strong>Warwick Hills Country Club</strong></p>\n<p align="center"><strong> </strong></p>\n</td>\n</tr>\n</tbody>\n</table>\n</div>\n<p align="center"></p>\n\n<div align="center">\n<table width="100%" border="0" cellspacing="0" cellpadding="0">\n<tbody>\n<tr>\n<td valign="top">\n<p align="center">This is a part of a 3 part series entitled</p>\n<p align="center"><em><strong>"Sales\, Employees\, Accountability OH MY!" </strong></em></p>\n&nbsp\;\n\nThis series was recently conducted for Business Owners just like you from all over the State of Michigan &amp\; Indiana whose revenues ranged from $1-20 Million. Many were family-owned business which\, as you know\, come with their own unique set of dynamics &amp\; challenges. The feedback was so positive that we decided to bring the workshop to the Michigan Family Business Center.\n<em>Let me pose you a question - </em>\n\n<strong>In your business have you ever:</strong>\n<ul>\n	<li><strong>Felt frustrated trying to reach your outcomes?       </strong></li>\n	<li><strong>Been concerned with how you would make it?        </strong></li>\n	<li><strong>Worried about whether your goals were possible given what you are dealing with?</strong></li>\n</ul>\nJoin us at the Warwick Hills Country Club on October 17\, where we will explain that in order to be accountable\, you must first consider your environment - either the environment you are creating\, or the one you are allowing. We will also cover the importance of knowing &amp\; measuring where you are currently.\n\n&nbsp\;\n\nTo paraphrase what Buckminster Fuller said\; "Seek to Reform the Environment\, Not Man (It's so much easier that way!)"\nIf you've ever thought - Why can't my people be more like me? Or if accountability feels like a four letter word\, then plan to join us for this lively discussion.\n\n&nbsp\;\n\n<strong><em>About our presenter   </em></strong>\n\n<strong><em>Denise Roberts </em></strong>is a speaker\, trainer\, coach\, business owner and the co-creator of the 3 Part Series\;\n\n<strong><em>"Sales\, Employees\, Accountability OH MY!"</em></strong>\nIn her 23 years of training and educating hundreds of business owners and their teams\, these are the 3 key areas she has seen that will make or break a business!  That is why she co-created this series.\n\n<strong><em>  </em></strong><em> </em>\n\nThis will be Denise's 3rd appearance for the Michigan Family Business Center and she has brought in some of the largest crowds we've ever had. Why? Because her style is fun and interactive and her topics are informative\, thought provoking and most important\, they gets results!\n\nCome and experience it for yourself on Thursday\, October 17th with breakfast served at 7:30 a.m.\n\n&nbsp\;\n\n<strong><em>RSVP Preferred</em></strong>. <em>Click </em><strong><em><a href="http://r20.rs6.net/tn.jsp?e=001Kp1Ct9LNu3C4AOfi7u-S4jHpt1BZ4RqpKfALQRc8a_rZRgD6HEOM8U1gOXSaSID1JgqK80nJcXojSvqPUiGHm0zfoFujVXg5_UJYp4bLt2OnuRsKZkiYh9LmBnv7PdOWiOFb_7E1ivY=" target="_blank">HERE</a></em></strong><em>\, or call Anna Swartz at (810) 762-3253 to register by phone.</em></td>\n</tr>\n</tbody>\n</table>\n</div>\n<p align="center"></p>\n\n<div align="center">\n<table width="100%" border="0" cellspacing="0" cellpadding="0">\n<tbody>\n<tr>\n<td valign="top">\n<p align="center"></p>\n<p align="center">\nThe M-Club of Greater Flint is proud to sponsor the Michigan</p>\n<p align="center">Family Business Center\, Business Seminar Series.</p>\n<p align="center">AAUM members receive special discounts.</p>\n</td>\n</tr>\n</tbody>\n</table>\n</div>\n<p align="center"></p>\n</td>\n</tr>\n</tbody>\n</table>\n</div></td>\n<td valign="top">\n<div align="center">\n<table width="100%" border="0" cellspacing="0" cellpadding="0">\n<tbody>\n<tr>\n<td valign="top" width="100%">\n<div align="center">\n<table width="100%" border="0" cellspacing="0" cellpadding="0">\n<tbody>\n<tr>\n<td valign="top">\n<p align="center"></p>\n<p align="center"><strong>$30 per person </strong></p>\n</td>\n</tr>\n<tr>\n<td valign="top">\n<p align="center"><strong>(includes breakfast)</strong><strong>  </strong></p>\n<p align="center"></p>\n<p align="center"><em><strong>*free to MFBC members &amp\; UM-Flint Students*</strong></em></p>\n</td>\n</tr>\n</tbody>\n</table>\n</div>\n<p align="center"></p>\n\n<div align="center">\n<table width="100%" border="0" cellspacing="0" cellpadding="0">\n<tbody>\n<tr>\n<td>\n<table width="100%" border="0" cellspacing="0" cellpadding="0">\n<tbody>\n<tr>\n<td></td>\n</tr>\n</tbody>\n</table>\n</td>\n</tr>\n</tbody>\n</table>\n</div>\n<p align="center"></p>\n\n<div align="center">\n<table width="100%" border="0" cellspacing="0" cellpadding="0">\n<tbody>\n<tr>\n<td valign="top">\n<p align="center"><strong>When</strong></p>\n</td>\n</tr>\n</tbody>\n</table>\n</div>\n<p align="center"></p>\n\n<div align="center">\n<table width="100%" border="0" cellspacing="0" cellpadding="0">\n<tbody>\n<tr>\n<td valign="top">\n<p align="center"><strong>Thursday\, Oct 17\, 2013</strong></p>\n<p align="center">Breakfast: 7:30 - 8:00 a.m.</p>\n<p align="center">Seminar: 8:00 - 9:30 a.m.</p>\n</td>\n</tr>\n</tbody>\n</table>\n</div>\n<p align="center"></p>\n\n<div align="center">\n<table width="100%" border="0" cellspacing="0" cellpadding="0">\n<tbody>\n<tr>\n<td valign="top">\n<p align="center"><strong>Where</strong></p>\n</td>\n</tr>\n</tbody>\n</table>\n</div>\n<p align="center"></p>\n\n<div align="center">\n<table width="100%" border="0" cellspacing="0" cellpadding="0">\n<tbody>\n<tr>\n<td valign="top">\n<p align="center"><strong>Warwick Hills Country Club</strong></p>\n<p align="center">G-9057 S. Saginaw Rd</p>\n<p align="center">Grand Blanc\, MI 48439</p>\n<p align="center"><a href="http://r20.rs6.net/tn.jsp?e=001Kp1Ct9LNu3B5DP7SNEnyoHagnxnOUqo4wV7eIDb0-lTPijpls4FvU8v2eUx-8WpX67METNWpn6BAJ36dYyo5Rg-PUM1bTYRkVS837M7YMtHVt36IvDsT8s6SGYU0tw4LeMCwL_kDz8L4oMOVpRmeFD7T9j740MvPN8z1gRh4qG13ccn-5SULx_MtaLtowMStCzNUKq-h3lCC0d9gwmAb-CNqBibc0lYKj_h8G95-7CcqQPTe5-ed2VOS7NSg0yGl1iJ3Jo47w8W1OeRzNlJpikEVu-_v17-nArZoIzACkS6TbKHqOIIIstrUFxj40eYonQxjx6IQIgObCPor00edA3bl2gTQIgHjQcOrOHyD0HeFp3EhYxMWfGCzZg-4Nwf0rTmqPf5T2SztXiNfelrTwizSc6HNSjwYIuprzXz1YZjs1hwunwbhpcjCoo2IiyI4" target="_blank"><strong>Get Directions</strong></a></p>\n</td>\n</tr>\n</tbody>\n</table>\n</div>\n<p align="center"></p>\n\n<div align="center">\n<table width="100%" border="0" cellspacing="0" cellpadding="0">\n<tbody>\n<tr>\n<td>\n<table width="100%" border="0" cellspacing="0" cellpadding="0">\n<tbody>\n<tr>\n<td></td>\n</tr>\n</tbody>\n</table>\n</td>\n</tr>\n</tbody>\n</table>\n</div>\n<p align="center"></p>\n\n<div align="center">\n<table width="100%" border="0" cellspacing="0" cellpadding="0">\n<tbody>\n<tr>\n<td valign="top"><strong>Reservations Preferred:</strong></td>\n</tr>\n</tbody>\n</table>\n</div>\n<p align="center"></p>\n\n<div align="center">\n<table width="100%" border="0" cellspacing="0" cellpadding="0">\n<tbody>\n<tr>\n<td valign="top">\n<p align="center"><strong><a href="http://r20.rs6.net/tn.jsp?e=001Kp1Ct9LNu3C4AOfi7u-S4jHpt1BZ4RqpKfALQRc8a_rZRgD6HEOM8U1gOXSaSID1JgqK80nJcXojSvqPUiGHm0zfoFujVXg5_UJYp4bLt2OnuRsKZkiYh9LmBnv7PdOWiOFb_7E1ivY=" target="_blank">RSVP HERE</a></strong></p>\n</td>\n</tr>\n</tbody>\n</table>\n</div>\n<p align="center"></p>\n\n<div align="center">\n<table width="100%" border="0" cellspacing="0" cellpadding="0">\n<tbody>\n<tr>\n<td valign="top"></td>\n</tr>\n</tbody>\n</table>\n</div>\n<p align="center"></p>\n</td>\n</tr>\n</tbody>\n</table>\n</div>\n<p align="center"></p>\n\n<div align="center">\n<table width="207" border="0" cellspacing="0" cellpadding="0">\n<tbody>\n<tr>\n<td></td>\n</tr>\n</tbody>\n</table>\n</div>\n<p align="center"></p>\n</td>\n</tr>\n</tbody>\n</table>\n</div>
LOCATION:Warwick Hills Golf and Country Club and the Flint Golf Club G-9057 S Saginaw Rd. Grand Blanc MI 48439
UID:e.2606.560
SEQUENCE:3
DTSTAMP:20260421T203424Z
URL:https://members.flintandgeneseechamber.org/events/details/university-of-michigan-flint-school-of-business-accountability-if-you-can-measure-it-you-can-direct-it-10-17-2013-560
END:VEVENT

END:VCALENDAR
