BEGIN:VCALENDAR
VERSION:2.0
PRODID:-//ChamberMaster//Event Calendar 2.0//EN
METHOD:PUBLISH
X-PUBLISHED-TTL:P3D
REFRESH-INTERVAL:P3D
CALSCALE:GREGORIAN
BEGIN:VEVENT
DTSTART:20240520T120000Z
DTEND:20240520T230000Z
X-MICROSOFT-CDO-ALLDAYEVENT:FALSE
SUMMARY:Vocational Independence Program's Swing into Action Golf Charity Event
DESCRIPTION:Vocational Independence Program's (VIP) annual Golf Charity Event that helps raise awareness and money so that they can continue their mission of helping those with disabilities break down barriers to employment.
X-ALT-DESC;FMTTYPE=text/html:Vocational Independence Program&#39\;s (VIP) annual Golf Charity Event that helps raise awareness and money so that they can continue their mission of helping those with disabilities break down barriers to employment.
LOCATION:The Flint Elks 7177 E Maple Ave. Grand Blanc\, MI 49430
UID:e.2606.18164
SEQUENCE:3
DTSTAMP:20260421T150529Z
URL:https://members.flintandgeneseechamber.org/events/details/vocational-independence-program-s-swing-into-action-golf-charity-event-18164
END:VEVENT

END:VCALENDAR
