BEGIN:VCALENDAR
VERSION:2.0
PRODID:-//ChamberMaster//Event Calendar 2.0//EN
METHOD:PUBLISH
X-PUBLISHED-TTL:P3D
REFRESH-INTERVAL:P3D
CALSCALE:GREGORIAN
BEGIN:VEVENT
DTSTART:20140426T140000Z
DTEND:20140426T160000Z
X-MICROSOFT-CDO-ALLDAYEVENT:FALSE
SUMMARY:Volunteer Day: Bluebird Workday
DESCRIPTION:Join Bluebird volunteers and learn the basics of maintaining a healthy Bluebird habitat and monitor Bluebird nesting boxes. Workday will be held outdoors so dress for the weather. Recommended for all ages. Free admission. For a detailed schedule of activities visit www.geneseecountyparks.org.
X-ALT-DESC;FMTTYPE=text/html:Join Bluebird volunteers and learn the basics of maintaining a healthy Bluebird habitat and monitor Bluebird nesting boxes. Workday will be held outdoors so dress for the weather. Recommended for all ages. Free admission. For a detailed schedule of activities visit <a title="For-Mar Nature Preserve" href="http://www.geneseecountyparks.org/" target="_blank">www.geneseecountyparks.org</a>.\n\n&nbsp\;
LOCATION:For-Mar Nature Preserve 2142 N. Genesee Road Burton Michigan
UID:e.2606.886
SEQUENCE:3
DTSTAMP:20260421T112410Z
URL:https://members.flintandgeneseechamber.org/events/details/volunteer-day-bluebird-workday-04-26-2014-886
END:VEVENT

END:VCALENDAR
