BEGIN:VCALENDAR
VERSION:2.0
PRODID:-//ChamberMaster//Event Calendar 2.0//EN
METHOD:PUBLISH
X-PUBLISHED-TTL:P3D
REFRESH-INTERVAL:P3D
CALSCALE:GREGORIAN
BEGIN:VEVENT
DTSTART:20140530T220000Z
DTEND:20140531T000000Z
X-MICROSOFT-CDO-ALLDAYEVENT:FALSE
SUMMARY:Walk a Mile in Her Shoes - YWCA of Greater Flint
DESCRIPTION:Registration at 5:30pm\n\nWalk starts at YWCA at 6pm\n\nends at 501 Bar and Grill\n\nPlease call 810-238-7621 for more information
X-ALT-DESC;FMTTYPE=text/html:Registration at 5:30pm\n\nWalk starts at YWCA at 6pm\n\nends at 501 Bar and Grill\n\nPlease call 810-238-7621 for more information
LOCATION:YWCA 310 E. Third Street Flint MI 48502
UID:e.2606.911
SEQUENCE:3
DTSTAMP:20260421T102953Z
URL:https://members.flintandgeneseechamber.org/events/details/walk-a-mile-in-her-shoes-ywca-of-greater-flint-05-30-2014-911
END:VEVENT

END:VCALENDAR
